BEGIN:VCALENDAR
VERSION:2.0
PRODID:-//archive.cryptologicfoundation.org//NONSGML kigkonsult.se iCalcrea
 tor 2.30.10//
CALSCALE:GREGORIAN
METHOD:PUBLISH
UID:eaaadc9d-b6dd-4e61-9262-a20964c8fa34
X-WR-CALDESC:3 January 1962: Marine cryptologists began their service in So
 uth Vietnam with the arrival of Detachment A\, First Radio Company Fleet M
 arine Force\, which established itself at Pleiku. Visit the link included 
 below to learn more about the pictured artifact.\n\n<b>Excerpt from 1st-ra
 dio-company-usmc website:</b>  In January 1962\, by order of then Secretar
 y of Defense McNamara\, 1st Composite Radio Company deployed a detachment 
 of Marines\, identified as Sub Unit #1\, to Pleiku\, South Vietnam. Pleiku
  is located in the Central Highlands of South Vietnam (SVN) known militari
 ly as II Corps. Established as a four month rotational (training) effort a
 nd being attached to the U.S. Army Security Group’s 3rd Radio Research Uni
 t (3rd RRU) based at Davis Station\, Saigon\, SVN\, the detachment’s missi
 on was to gather information on the movements\, disposition and assist in 
 developing the intentions of North Vietnam and Viet Cong military organiza
 tions in support of the 3rd RRU and U.S. forces in Vietnam. The unit was b
 illeted at an Army of Vietnam’s base which also housed U.S. Military Army 
 Advisory and Assistance Group.\n\nThe third detachment of the Marines sent
  to Pleiku saw a few members assigned directly to the 3rd RRU\, Saigon to 
 perform vital airborne tactical support in locating enemy units in the imm
 ediate area. Together\, the combined work of this 3rd detachment’s deploym
 ent to Vietnam not only lifted the threat of terminating continued deploym
 ents in support of the 3rd RRU\, it raised production to a level of produc
 tion that warranted the Secretary of the Army\, on May 14\, 1963\, to awar
 d those Marines in support of the 3rd RRU between January and December 196
 2\, the U.S. Army Meritorious Unit Citation. This outstanding support rema
 ined vital to U.S. forces efforts through the evacuation of Saigon in 1967
 .
X-WR-RELCALID:3a75b491ae152232bbec62f847aad3e6
X-WR-TIMEZONE:America/New_York
BEGIN:VTIMEZONE
TZID:America/New_York
BEGIN:STANDARD
TZNAME:EST
DTSTART:20251102T020000
TZOFFSETFROM:-0400
TZOFFSETTO:-0500
RDATE:20261101T020000
END:STANDARD
BEGIN:DAYLIGHT
TZNAME:EDT
DTSTART:20250309T020000
TZOFFSETFROM:-0500
TZOFFSETTO:-0400
RDATE:20260308T020000
RDATE:20270314T020000
END:DAYLIGHT
END:VTIMEZONE
BEGIN:VEVENT
UID:7021ca1c-1ab6-4587-90d2-b2c61293c2e6
DTSTAMP:20260424T111755Z
DESCRIPTION:3 January 1962: Marine cryptologists began their service in Sou
 th Vietnam with the arrival of Detachment A\, First Radio Company Fleet Ma
 rine Force\, which established itself at Pleiku. Visit the link included b
 elow to learn more about the pictured artifact.\n\n<b>Excerpt from 1st-rad
 io-company-usmc website:</b>  In January 1962\, by order of then Secretary
  of Defense McNamara\, 1st Composite Radio Company deployed a detachment o
 f Marines\, identified as Sub Unit #1\, to Pleiku\, South Vietnam. Pleiku 
 is located in the Central Highlands of South Vietnam (SVN) known militaril
 y as II Corps. Established as a four month rotational (training) effort an
 d being attached to the U.S. Army Security Group’s 3rd Radio Research Unit
  (3rd RRU) based at Davis Station\, Saigon\, SVN\, the detachment’s missio
 n was to gather information on the movements\, disposition and assist in d
 eveloping the intentions of North Vietnam and Viet Cong military organizat
 ions in support of the 3rd RRU and U.S. forces in Vietnam. The unit was bi
 lleted at an Army of Vietnam’s base which also housed U.S. Military Army A
 dvisory and Assistance Group.\n\nThe third detachment of the Marines sent 
 to Pleiku saw a few members assigned directly to the 3rd RRU\, Saigon to p
 erform vital airborne tactical support in locating enemy units in the imme
 diate area. Together\, the combined work of this 3rd detachment’s deployme
 nt to Vietnam not only lifted the threat of terminating continued deployme
 nts in support of the 3rd RRU\, it raised production to a level of product
 ion that warranted the Secretary of the Army\, on May 14\, 1963\, to award
  those Marines in support of the 3rd RRU between January and December 1962
 \, the U.S. Army Meritorious Unit Citation. This outstanding support remai
 ned vital to U.S. forces efforts through the evacuation of Saigon in 1967.
DTSTART;TZID=America/New_York:20260103T000000
DTEND;TZID=America/New_York:20260103T235900
LOCATION:
SUMMARY:1962: Marine cryptologists in Vietnam.
END:VEVENT
END:VCALENDAR
