BEGIN:VCALENDAR
VERSION:2.0
PRODID:-//archive.cryptologicfoundation.org//NONSGML kigkonsult.se iCalcrea
 tor 2.30.10//
CALSCALE:GREGORIAN
METHOD:PUBLISH
UID:76d99a9e-3f16-450b-b762-d92471c1b79e
X-WR-CALDESC:4 January 1957: MG Gordon Blake named Commander\, Air Force Se
 curity Service.  In January 1962\, Lt Gen Gordon Blake became director of 
 the National Security Agency.\n\nWant to learn a 'little known fact' about
  Gen Blake's involvement with the ending of the war with the Japanese in 1
 945? Check out the link below.
X-WR-RELCALID:280068a5fa1453be6646a60301af4114
X-WR-TIMEZONE:America/New_York
BEGIN:VTIMEZONE
TZID:America/New_York
BEGIN:STANDARD
TZNAME:EST
DTSTART:20251102T020000
TZOFFSETFROM:-0400
TZOFFSETTO:-0500
RDATE:20261101T020000
END:STANDARD
BEGIN:DAYLIGHT
TZNAME:EDT
DTSTART:20250309T020000
TZOFFSETFROM:-0500
TZOFFSETTO:-0400
RDATE:20260308T020000
RDATE:20270314T020000
END:DAYLIGHT
END:VTIMEZONE
BEGIN:VEVENT
UID:68352d5e-d8e8-4a0a-8fc1-ccd61d2d576d
DTSTAMP:20260424T111542Z
DESCRIPTION:4 January 1957: MG Gordon Blake named Commander\, Air Force Sec
 urity Service.  In January 1962\, Lt Gen Gordon Blake became director of t
 he National Security Agency.\n\nWant to learn a 'little known fact' about 
 Gen Blake's involvement with the ending of the war with the Japanese in 19
 45? Check out the link below.
DTSTART;TZID=America/New_York:20260104T000000
DTEND;TZID=America/New_York:20260104T235900
LOCATION:
SUMMARY:1957: MG Gordon Blake named Commander\, AF Security Service
END:VEVENT
END:VCALENDAR
