BEGIN:VCALENDAR
VERSION:2.0
PRODID:-//archive.cryptologicfoundation.org//NONSGML kigkonsult.se iCalcrea
 tor 2.30.10//
CALSCALE:GREGORIAN
METHOD:PUBLISH
UID:ad46a7aa-597a-4e6f-a301-41fae9ad6f35
X-WR-CALDESC:6 January 1838: Alfred Vail demonstrated a telegraph system us
 ing dots and dashes (the forerunner of Morse code). Did you know that the 
 dots and dashes in the flag that appears in the NCF logo have meaning? Cli
 ck the link below to find out what they mean.
X-WR-RELCALID:cc901b3bff2890d4c0d109764f7fd194
X-WR-TIMEZONE:America/New_York
BEGIN:VTIMEZONE
TZID:America/New_York
BEGIN:STANDARD
TZNAME:EST
DTSTART:20251102T020000
TZOFFSETFROM:-0400
TZOFFSETTO:-0500
RDATE:20261101T020000
END:STANDARD
BEGIN:DAYLIGHT
TZNAME:EDT
DTSTART:20250309T020000
TZOFFSETFROM:-0500
TZOFFSETTO:-0400
RDATE:20260308T020000
RDATE:20270314T020000
END:DAYLIGHT
END:VTIMEZONE
BEGIN:VEVENT
UID:b00833ca-6090-4b33-a22b-0121fd915782
DTSTAMP:20260424T111647Z
DESCRIPTION:6 January 1838: Alfred Vail demonstrated a telegraph system usi
 ng dots and dashes (the forerunner of Morse code). Did you know that the d
 ots and dashes in the flag that appears in the NCF logo have meaning? Clic
 k the link below to find out what they mean.
DTSTART;TZID=America/New_York:20260106T000000
DTEND;TZID=America/New_York:20260106T235900
LOCATION:
SUMMARY:1838: Alfred Vail uses dots & dashes
END:VEVENT
END:VCALENDAR
