BEGIN:VCALENDAR
VERSION:2.0
PRODID:-//archive.cryptologicfoundation.org//NONSGML kigkonsult.se iCalcrea
 tor 2.30.10//
CALSCALE:GREGORIAN
METHOD:PUBLISH
UID:cf565d49-aa4a-4550-ad4d-bb179db33401
X-WR-CALDESC:13 January 2003: First 'History Today' article on NSA Daily Pa
 ge. To see a selection of the 'History Today' PDFs - visit the link below.
X-WR-RELCALID:3f9ab2ed852ba69833d119889735e3b3
X-WR-TIMEZONE:America/New_York
BEGIN:VTIMEZONE
TZID:America/New_York
BEGIN:STANDARD
TZNAME:EST
DTSTART:20251102T020000
TZOFFSETFROM:-0400
TZOFFSETTO:-0500
RDATE:20261101T020000
END:STANDARD
BEGIN:DAYLIGHT
TZNAME:EDT
DTSTART:20250309T020000
TZOFFSETFROM:-0500
TZOFFSETTO:-0400
RDATE:20260308T020000
RDATE:20270314T020000
END:DAYLIGHT
END:VTIMEZONE
BEGIN:VEVENT
UID:067d4955-615b-4da0-b92c-76d7e74328a5
DTSTAMP:20260424T111514Z
DESCRIPTION:13 January 2003: First 'History Today' article on NSA Daily Pag
 e. To see a selection of the 'History Today' PDFs - visit the link below.
DTSTART;TZID=America/New_York:20260113T000000
DTEND;TZID=America/New_York:20260113T235900
LOCATION:
SUMMARY:2003: First 'History Today' article on NSA Daily Page.
END:VEVENT
END:VCALENDAR
