BEGIN:VCALENDAR
VERSION:2.0
PRODID:-//archive.cryptologicfoundation.org//NONSGML kigkonsult.se iCalcrea
 tor 2.30.10//
CALSCALE:GREGORIAN
METHOD:PUBLISH
UID:40bcdd1c-a641-4ecf-aea5-e84f9cdab45f
X-WR-CALDESC:14 January 1978:  Brig. Gen. Bernard Ardisana\, USAF\, NSA's f
 irst Assistant Deputy Director of Operations\, died on active duty. \n\nFr
 om Brig Gen Aridsana's NSA/CSS Cryptologic Hall of Honor page.....'Through
 out his many years of military service\, Brig Gen Ardisana was the on-scen
 e cryptologic communications expert who developed or implemented fundament
 ally important changes to USAF cryptologic operations and procedures. His 
 work on the OPSCOMM system remained the basic configuration for nearly 25 
 years at U.S. SIGINT sites. His pioneering work in the development of rapi
 d communications was a key concept that was used in the development of the
  Critical Intelligence Communication system. '\n\nRead his full Hall of Ho
 nor entry via the link below.
X-WR-RELCALID:34d9758a5e8aaf1322a3ca2775ec8a31
X-WR-TIMEZONE:America/New_York
BEGIN:VTIMEZONE
TZID:America/New_York
BEGIN:STANDARD
TZNAME:EST
DTSTART:20251102T020000
TZOFFSETFROM:-0400
TZOFFSETTO:-0500
RDATE:20261101T020000
END:STANDARD
BEGIN:DAYLIGHT
TZNAME:EDT
DTSTART:20250309T020000
TZOFFSETFROM:-0500
TZOFFSETTO:-0400
RDATE:20260308T020000
RDATE:20270314T020000
END:DAYLIGHT
END:VTIMEZONE
BEGIN:VEVENT
UID:1b6447fc-fcf1-45bf-ac22-bfaf43037d38
DTSTAMP:20260424T111856Z
DESCRIPTION:14 January 1978:  Brig. Gen. Bernard Ardisana\, USAF\, NSA's fi
 rst Assistant Deputy Director of Operations\, died on active duty. \n\nFro
 m Brig Gen Aridsana's NSA/CSS Cryptologic Hall of Honor page.....'Througho
 ut his many years of military service\, Brig Gen Ardisana was the on-scene
  cryptologic communications expert who developed or implemented fundamenta
 lly important changes to USAF cryptologic operations and procedures. His w
 ork on the OPSCOMM system remained the basic configuration for nearly 25 y
 ears at U.S. SIGINT sites. His pioneering work in the development of rapid
  communications was a key concept that was used in the development of the 
 Critical Intelligence Communication system. '\n\nRead his full Hall of Hon
 or entry via the link below.
DTSTART;TZID=America/New_York:20260114T000000
DTEND;TZID=America/New_York:20260114T235900
LOCATION:
SUMMARY:1978: Brig Gen Ardisana Died on this Date
END:VEVENT
END:VCALENDAR
