BEGIN:VCALENDAR
VERSION:2.0
PRODID:-//archive.cryptologicfoundation.org//NONSGML kigkonsult.se iCalcrea
 tor 2.30.10//
CALSCALE:GREGORIAN
METHOD:PUBLISH
UID:0bba0ec9-df74-4a1e-bbc8-2bfd2c6b4a8c
X-WR-CALDESC:19 January 1998: U.S. cryptologic pioneer Abraham Sinkov died.
  In the photo - Sinkov is standing (far right). William Friedman is sittin
 g (closest to Sinkov).\n\nDr. Sinkov was inducted into the NSA Cryptologic
  Hall of Honor in 1999. Read an excerpt from his Hall of Honor entry below
  and click on the link at the bottom of the page to see the full entry on 
 the NSA site.\n\nFrom the Hall of Honor:\n\nIn 1930\, William Friedman\, a
  senior civilian in the Army's Signal Intelligence Service (SIS) was autho
 rized to hire three civilians\, at $2\,000 per year -- a fairly good salar
 y in the early period of the Great Depression. On April 1\, Frank Rowlett\
 , a mathematics teacher from Virginia\, reported for duty. Later that mont
 h\, two mathematics teachers from Brooklyn came to Washington to work as c
 ryptanalysts\, Abraham Sinkov and Solomon Kullback. In addition to his suc
 cesses with SIS and also with the Central Bureau\, in 1954\, Dr. Sinkov be
 came the second NSA official to attend the National War College (the first
  was Dr. Louis Tordella). Upon his return\, he became Deputy Director for 
 Production\, effectively swapping jobs with his old colleague Frank Rowlet
 t. Dr. Sinkov retired from NSA in 1962.
X-WR-RELCALID:8d1640a19280902dbf90b1cfffddfba1
X-WR-TIMEZONE:America/New_York
BEGIN:VTIMEZONE
TZID:America/New_York
BEGIN:STANDARD
TZNAME:EST
DTSTART:20251102T020000
TZOFFSETFROM:-0400
TZOFFSETTO:-0500
RDATE:20261101T020000
END:STANDARD
BEGIN:DAYLIGHT
TZNAME:EDT
DTSTART:20250309T020000
TZOFFSETFROM:-0500
TZOFFSETTO:-0400
RDATE:20260308T020000
RDATE:20270314T020000
END:DAYLIGHT
END:VTIMEZONE
BEGIN:VEVENT
UID:555e0fb0-cfc1-4af2-918c-dbcef51746b3
DTSTAMP:20260424T112031Z
DESCRIPTION:19 January 1998: U.S. cryptologic pioneer Abraham Sinkov died. 
 In the photo - Sinkov is standing (far right). William Friedman is sitting
  (closest to Sinkov).\n\nDr. Sinkov was inducted into the NSA Cryptologic 
 Hall of Honor in 1999. Read an excerpt from his Hall of Honor entry below 
 and click on the link at the bottom of the page to see the full entry on t
 he NSA site.\n\nFrom the Hall of Honor:\n\nIn 1930\, William Friedman\, a 
 senior civilian in the Army's Signal Intelligence Service (SIS) was author
 ized to hire three civilians\, at $2\,000 per year -- a fairly good salary
  in the early period of the Great Depression. On April 1\, Frank Rowlett\,
  a mathematics teacher from Virginia\, reported for duty. Later that month
 \, two mathematics teachers from Brooklyn came to Washington to work as cr
 yptanalysts\, Abraham Sinkov and Solomon Kullback. In addition to his succ
 esses with SIS and also with the Central Bureau\, in 1954\, Dr. Sinkov bec
 ame the second NSA official to attend the National War College (the first 
 was Dr. Louis Tordella). Upon his return\, he became Deputy Director for P
 roduction\, effectively swapping jobs with his old colleague Frank Rowlett
 . Dr. Sinkov retired from NSA in 1962.
DTSTART;TZID=America/New_York:20260119T000000
DTEND;TZID=America/New_York:20260119T235900
LOCATION:
SUMMARY:1998: U.S. cryptologic pioneer Abraham Sinkov died.
END:VEVENT
END:VCALENDAR
