BEGIN:VCALENDAR
VERSION:2.0
PRODID:-//archive.cryptologicfoundation.org//NONSGML kigkonsult.se iCalcrea
 tor 2.30.10//
CALSCALE:GREGORIAN
METHOD:PUBLISH
UID:f7a7e9bd-3cc2-41b4-bba7-9d2bfe8d5bf9
X-WR-CALDESC:24 January 1918: Arthur Scherbius received a patent for a ciph
 er machine\, now known as the ENIGMA. \n\nLearn about the updated (and alw
 ays popular) ENIGMA exhibit at the NCM via the link below.\n
X-WR-RELCALID:8f3f302b1ea0baac46145842948d087b
X-WR-TIMEZONE:America/New_York
BEGIN:VTIMEZONE
TZID:America/New_York
BEGIN:STANDARD
TZNAME:EST
DTSTART:20251102T020000
TZOFFSETFROM:-0400
TZOFFSETTO:-0500
RDATE:20261101T020000
END:STANDARD
BEGIN:DAYLIGHT
TZNAME:EDT
DTSTART:20250309T020000
TZOFFSETFROM:-0500
TZOFFSETTO:-0400
RDATE:20260308T020000
RDATE:20270314T020000
END:DAYLIGHT
END:VTIMEZONE
BEGIN:VEVENT
UID:b65c84d4-8058-4e86-b677-92af67fbf3d3
DTSTAMP:20260424T111756Z
DESCRIPTION:24 January 1918: Arthur Scherbius received a patent for a ciphe
 r machine\, now known as the ENIGMA. \n\nLearn about the updated (and alwa
 ys popular) ENIGMA exhibit at the NCM via the link below.\n
DTSTART;TZID=America/New_York:20260124T000000
DTEND;TZID=America/New_York:20260124T235900
LOCATION:
SUMMARY:1918: Arthur Scherbius received patent for ENIGMA.
END:VEVENT
END:VCALENDAR
