BEGIN:VCALENDAR
VERSION:2.0
PRODID:-//archive.cryptologicfoundation.org//NONSGML kigkonsult.se iCalcrea
 tor 2.30.10//
CALSCALE:GREGORIAN
METHOD:PUBLISH
UID:482858ff-b9b5-41d5-811b-fbdc300c75bd
X-WR-CALDESC:31 January 1992: OTD in 1992 - the Federal Register published 
 details for the Secure Hash Standard/Algorithm (SHA). The original SHA was
  designed to provide a mechanism to check the integrity of data. \n\nSee b
 elow for a link to view the original document via the Federal Register arc
 hives.
X-WR-RELCALID:05c0ab96572b36fddb9aa98be15faa1f
X-WR-TIMEZONE:America/New_York
BEGIN:VTIMEZONE
TZID:America/New_York
BEGIN:STANDARD
TZNAME:EST
DTSTART:20251102T020000
TZOFFSETFROM:-0400
TZOFFSETTO:-0500
RDATE:20261101T020000
END:STANDARD
BEGIN:DAYLIGHT
TZNAME:EDT
DTSTART:20250309T020000
TZOFFSETFROM:-0500
TZOFFSETTO:-0400
RDATE:20260308T020000
RDATE:20270314T020000
END:DAYLIGHT
END:VTIMEZONE
BEGIN:VEVENT
UID:cd84cf82-d88e-47dc-9c29-f8ce061c2c0f
DTSTAMP:20260424T112114Z
DESCRIPTION:31 January 1992: OTD in 1992 - the Federal Register published d
 etails for the Secure Hash Standard/Algorithm (SHA). The original SHA was 
 designed to provide a mechanism to check the integrity of data. \n\nSee be
 low for a link to view the original document via the Federal Register arch
 ives.
DTSTART;TZID=America/New_York:20260131T060000
DTEND;TZID=America/New_York:20260131T060001
LOCATION:
SUMMARY:1992: 'The Federal Register' published details for the Secure Hash 
 Standard (SHA).
END:VEVENT
END:VCALENDAR
