BEGIN:VCALENDAR
VERSION:2.0
PRODID:-//archive.cryptologicfoundation.org//NONSGML kigkonsult.se iCalcrea
 tor 2.30.10//
CALSCALE:GREGORIAN
METHOD:PUBLISH
UID:01dea170-eb4a-4989-8c8d-616405b811c6
X-WR-CALDESC:1 February 1942: FRUMEL\, Navy's Fleet Radio Unit\, Melbourne\
 , established to assist General MacArthur.
X-WR-RELCALID:e613bd9c68ae43155eaee03841cff889
X-WR-TIMEZONE:America/New_York
BEGIN:VTIMEZONE
TZID:America/New_York
BEGIN:STANDARD
TZNAME:EST
DTSTART:20251102T020000
TZOFFSETFROM:-0400
TZOFFSETTO:-0500
RDATE:20261101T020000
END:STANDARD
BEGIN:DAYLIGHT
TZNAME:EDT
DTSTART:20250309T020000
TZOFFSETFROM:-0500
TZOFFSETTO:-0400
RDATE:20260308T020000
RDATE:20270314T020000
END:DAYLIGHT
END:VTIMEZONE
BEGIN:VEVENT
UID:e2ce99c1-c7a0-4277-8457-7f3c26ccead5
DTSTAMP:20260424T093625Z
DESCRIPTION:1 February 1942: FRUMEL\, Navy's Fleet Radio Unit\, Melbourne\,
  established to assist General MacArthur.
DTSTART;TZID=America/New_York:20260201T000000
DTEND;TZID=America/New_York:20260201T235900
LOCATION:
SUMMARY:1942: FRUMEL established to assist General MacArthur
END:VEVENT
END:VCALENDAR
