BEGIN:VCALENDAR
VERSION:2.0
PRODID:-//archive.cryptologicfoundation.org//NONSGML kigkonsult.se iCalcrea
 tor 2.30.10//
CALSCALE:GREGORIAN
METHOD:PUBLISH
UID:a39a287a-170d-4ea0-aee4-75343e73b466
X-WR-CALDESC:1 February 1949: The USAFSS received its first cryptologic uni
 ts from ASA.
X-WR-RELCALID:45a3ce011c92f1d73293c4f9baef414b
X-WR-TIMEZONE:America/New_York
BEGIN:VTIMEZONE
TZID:America/New_York
BEGIN:STANDARD
TZNAME:EST
DTSTART:20251102T020000
TZOFFSETFROM:-0400
TZOFFSETTO:-0500
RDATE:20261101T020000
END:STANDARD
BEGIN:DAYLIGHT
TZNAME:EDT
DTSTART:20250309T020000
TZOFFSETFROM:-0500
TZOFFSETTO:-0400
RDATE:20260308T020000
RDATE:20270314T020000
END:DAYLIGHT
END:VTIMEZONE
BEGIN:VEVENT
UID:f3fd6d5a-bcad-46a8-9e97-3b972f36b101
DTSTAMP:20260424T093306Z
DESCRIPTION:1 February 1949: The USAFSS received its first cryptologic unit
 s from ASA.
DTSTART;TZID=America/New_York:20260201T000000
DTEND;TZID=America/New_York:20260201T235900
LOCATION:
SUMMARY:1949: USAFSS received first cryptologic units from the ASA.
END:VEVENT
END:VCALENDAR
