BEGIN:VCALENDAR
VERSION:2.0
PRODID:-//archive.cryptologicfoundation.org//NONSGML kigkonsult.se iCalcrea
 tor 2.30.10//
CALSCALE:GREGORIAN
METHOD:PUBLISH
UID:8e6908c4-f3de-4459-91f8-ea95ee45c9af
X-WR-CALDESC:3 February 1963: Intercept operations began at Phu Bai. Became
  the largest U.S. site in South Vietnam.
X-WR-RELCALID:000f3006ea080a9c0653aa74580ca38e
X-WR-TIMEZONE:America/New_York
BEGIN:VTIMEZONE
TZID:America/New_York
BEGIN:STANDARD
TZNAME:EST
DTSTART:20251102T020000
TZOFFSETFROM:-0400
TZOFFSETTO:-0500
RDATE:20261101T020000
END:STANDARD
BEGIN:DAYLIGHT
TZNAME:EDT
DTSTART:20250309T020000
TZOFFSETFROM:-0500
TZOFFSETTO:-0400
RDATE:20260308T020000
RDATE:20270314T020000
END:DAYLIGHT
END:VTIMEZONE
BEGIN:VEVENT
UID:68d78544-0e23-41a0-966b-524ff6d4748c
DTSTAMP:20260424T093312Z
DESCRIPTION:3 February 1963: Intercept operations began at Phu Bai. Became 
 the largest U.S. site in South Vietnam.
DTSTART;TZID=America/New_York:20260203T000000
DTEND;TZID=America/New_York:20260203T235900
LOCATION:
SUMMARY:1963: Intercept operations began at Phu Bai
END:VEVENT
END:VCALENDAR
