BEGIN:VCALENDAR
VERSION:2.0
PRODID:-//archive.cryptologicfoundation.org//NONSGML kigkonsult.se iCalcrea
 tor 2.30.10//
CALSCALE:GREGORIAN
METHOD:PUBLISH
UID:2235ce46-15e7-4a77-8dcf-2a2b2f04706b
X-WR-CALDESC:5 February 1973: In the early morning hours of 5 Feb 1973\, an
  EC-47 with the callsign Baron-52 was shot down over Saravane Province\, L
 aos during a night intelligence gathering mission. The eight crew members\
 , including four cryptologic technicians\, were lost. Over the years there
  has been much speculation that four of the crew members survived the cras
 h and were captured by enemy forces. Many years later\, a group burial was
  held at Arlington Cemetery for the full crew of the downed aircraft. Lear
 n more via the article link below.
X-WR-RELCALID:d4c277108eddd15f62eb64ee4f5e5ba9
X-WR-TIMEZONE:America/New_York
BEGIN:VTIMEZONE
TZID:America/New_York
BEGIN:STANDARD
TZNAME:EST
DTSTART:20251102T020000
TZOFFSETFROM:-0400
TZOFFSETTO:-0500
RDATE:20261101T020000
END:STANDARD
BEGIN:DAYLIGHT
TZNAME:EDT
DTSTART:20250309T020000
TZOFFSETFROM:-0500
TZOFFSETTO:-0400
RDATE:20260308T020000
RDATE:20270314T020000
END:DAYLIGHT
END:VTIMEZONE
BEGIN:VEVENT
UID:2dc743bd-333c-474d-8e2d-0cf364811866
DTSTAMP:20260424T093829Z
DESCRIPTION:5 February 1973: In the early morning hours of 5 Feb 1973\, an 
 EC-47 with the callsign Baron-52 was shot down over Saravane Province\, La
 os during a night intelligence gathering mission. The eight crew members\,
  including four cryptologic technicians\, were lost. Over the years there 
 has been much speculation that four of the crew members survived the crash
  and were captured by enemy forces. Many years later\, a group burial was 
 held at Arlington Cemetery for the full crew of the downed aircraft. Learn
  more via the article link below.
DTSTART;TZID=America/New_York:20260205T060000
DTEND;TZID=America/New_York:20260205T060001
LOCATION:
SUMMARY:1973: EC-47 with the callsign Baron-52 shot down over Laos
END:VEVENT
END:VCALENDAR
