BEGIN:VCALENDAR
VERSION:2.0
PRODID:-//archive.cryptologicfoundation.org//NONSGML kigkonsult.se iCalcrea
 tor 2.30.10//
CALSCALE:GREGORIAN
METHOD:PUBLISH
UID:eed5be1a-7194-4292-8e13-00dda9a3e81d
X-WR-CALDESC:7 February 1960: Gilbert Vernam\, pioneer inventor of machine 
 encryption\, died. \n\nThe Vernam Cipher is named after Gilbert Sandford V
 ernam who\, in 1917\, invented the polyalphabetic stream cipher and later 
 co-invented the one-time pad cipher. His patent was filed in 1918 and is\,
  according to the NSA\, quite possibly one of the most important in crypto
 graphic history. What we now call one-time pad encryption (OTP) was patent
 ed by Gilbert Vernam at AT&T in 1919 and enhanced by Captain Joseph Maubor
 gne of the Army’s Signal Corps. The earliest military application was repo
 rted by the German Kurzwellenpanorama magazine in World War I. Later it wa
 s employed by the BBC to send coded messages to Special Operations Executi
 ve agents abroad.\n\nThe largest application of OTP has been on number sta
 tions\; these unlicensed\, mysterious shortwave radio stations began broad
 casting during the Cold War. The Vernam Cipher has also been applied to mo
 dern computing.
X-WR-RELCALID:1981076944d156029d38faa0ea019e63
X-WR-TIMEZONE:America/New_York
BEGIN:VTIMEZONE
TZID:America/New_York
BEGIN:STANDARD
TZNAME:EST
DTSTART:20251102T020000
TZOFFSETFROM:-0400
TZOFFSETTO:-0500
RDATE:20261101T020000
END:STANDARD
BEGIN:DAYLIGHT
TZNAME:EDT
DTSTART:20250309T020000
TZOFFSETFROM:-0500
TZOFFSETTO:-0400
RDATE:20260308T020000
RDATE:20270314T020000
END:DAYLIGHT
END:VTIMEZONE
BEGIN:VEVENT
UID:330ccdbd-d919-45de-8c5a-4e7946584045
DTSTAMP:20260424T094018Z
DESCRIPTION:7 February 1960: Gilbert Vernam\, pioneer inventor of machine e
 ncryption\, died. \n\nThe Vernam Cipher is named after Gilbert Sandford Ve
 rnam who\, in 1917\, invented the polyalphabetic stream cipher and later c
 o-invented the one-time pad cipher. His patent was filed in 1918 and is\, 
 according to the NSA\, quite possibly one of the most important in cryptog
 raphic history. What we now call one-time pad encryption (OTP) was patente
 d by Gilbert Vernam at AT&T in 1919 and enhanced by Captain Joseph Mauborg
 ne of the Army’s Signal Corps. The earliest military application was repor
 ted by the German Kurzwellenpanorama magazine in World War I. Later it was
  employed by the BBC to send coded messages to Special Operations Executiv
 e agents abroad.\n\nThe largest application of OTP has been on number stat
 ions\; these unlicensed\, mysterious shortwave radio stations began broadc
 asting during the Cold War. The Vernam Cipher has also been applied to mod
 ern computing.
DTSTART;TZID=America/New_York:20260207T000000
DTEND;TZID=America/New_York:20260207T235900
LOCATION:
SUMMARY:1960: Inventor Gilbert Vernam died.
END:VEVENT
END:VCALENDAR
