BEGIN:VCALENDAR
VERSION:2.0
PRODID:-//archive.cryptologicfoundation.org//NONSGML kigkonsult.se iCalcrea
 tor 2.30.10//
CALSCALE:GREGORIAN
METHOD:PUBLISH
UID:92e5ea25-098c-45a3-858e-655db714d463
X-WR-CALDESC:8 February 1941: First Americans visit Bletchley Park - beginn
 ing U.S. - U.K. cryptologic cooperation during World War II.\n\nIn late Ja
 nuary 2021\, the NCMF hosted a virtual cryptologic program featuring Dr. D
 avid Sherman\, 'American Codebreakers at Bletchley Park\, 1941-1945.' Dr. 
 Sherman discussed a secret February 1941 U.S. visit to Britain’s wartime c
 odebreaking center and how it set the stage for the enduring partnership t
 hat emerged after World War II\, a partnership often called the closest an
 d most important relationship in the history of intelligence.\n\nClick the
  link below to watch the full recording of the program - to include Q&A wi
 th Dr. Sherman. \n\nPlease also see a link  below to learn about the 75 Ye
 ars of Cooperation Exhibit to celebrate the collaboration between the US a
 nd the UK.
X-WR-RELCALID:45e62d49570ee2633c8d43ee73f965f4
X-WR-TIMEZONE:America/New_York
BEGIN:VTIMEZONE
TZID:America/New_York
BEGIN:STANDARD
TZNAME:EST
DTSTART:20251102T020000
TZOFFSETFROM:-0400
TZOFFSETTO:-0500
RDATE:20261101T020000
END:STANDARD
BEGIN:DAYLIGHT
TZNAME:EDT
DTSTART:20250309T020000
TZOFFSETFROM:-0500
TZOFFSETTO:-0400
RDATE:20260308T020000
RDATE:20270314T020000
END:DAYLIGHT
END:VTIMEZONE
BEGIN:VEVENT
UID:9cffec07-c328-41da-8c89-1f4d408ca7aa
DTSTAMP:20260424T093125Z
DESCRIPTION:8 February 1941: First Americans visit Bletchley Park - beginni
 ng U.S. - U.K. cryptologic cooperation during World War II.\n\nIn late Jan
 uary 2021\, the NCMF hosted a virtual cryptologic program featuring Dr. Da
 vid Sherman\, 'American Codebreakers at Bletchley Park\, 1941-1945.' Dr. S
 herman discussed a secret February 1941 U.S. visit to Britain’s wartime co
 debreaking center and how it set the stage for the enduring partnership th
 at emerged after World War II\, a partnership often called the closest and
  most important relationship in the history of intelligence.\n\nClick the 
 link below to watch the full recording of the program - to include Q&A wit
 h Dr. Sherman. \n\nPlease also see a link  below to learn about the 75 Yea
 rs of Cooperation Exhibit to celebrate the collaboration between the US an
 d the UK.
DTSTART;TZID=America/New_York:20260208T000000
DTEND;TZID=America/New_York:20260208T235900
LOCATION:
SUMMARY:1941: First Americans visit Bletchley Park.
END:VEVENT
END:VCALENDAR
