BEGIN:VCALENDAR
VERSION:2.0
PRODID:-//archive.cryptologicfoundation.org//NONSGML kigkonsult.se iCalcrea
 tor 2.30.10//
CALSCALE:GREGORIAN
METHOD:PUBLISH
UID:f58b516b-a245-4164-bfc2-ee0305eab132
X-WR-CALDESC:10 February 1943: Establishment of the 805th Signal Service Co
 mpany for operation of the SIGSALY.
X-WR-RELCALID:38f3cfaf7ac9bb86f5bc94f848a80bfc
X-WR-TIMEZONE:America/New_York
BEGIN:VTIMEZONE
TZID:America/New_York
BEGIN:STANDARD
TZNAME:EST
DTSTART:20251102T020000
TZOFFSETFROM:-0400
TZOFFSETTO:-0500
RDATE:20261101T020000
END:STANDARD
BEGIN:DAYLIGHT
TZNAME:EDT
DTSTART:20250309T020000
TZOFFSETFROM:-0500
TZOFFSETTO:-0400
RDATE:20260308T020000
RDATE:20270314T020000
END:DAYLIGHT
END:VTIMEZONE
BEGIN:VEVENT
UID:b862a341-0150-4439-a7d6-966e7125e7a3
DTSTAMP:20260424T094523Z
DESCRIPTION:10 February 1943: Establishment of the 805th Signal Service Com
 pany for operation of the SIGSALY.
DTSTART;TZID=America/New_York:20260210T000000
DTEND;TZID=America/New_York:20260210T235900
LOCATION:
SUMMARY:1943: Establishment of the 805th Signal Service Company for operati
 on of the SIGSALY.
END:VEVENT
END:VCALENDAR
