BEGIN:VCALENDAR
VERSION:2.0
PRODID:-//archive.cryptologicfoundation.org//NONSGML kigkonsult.se iCalcrea
 tor 2.30.10//
CALSCALE:GREGORIAN
METHOD:PUBLISH
UID:485b2c00-5d23-4b0d-962c-964d725e7892
X-WR-CALDESC:Just in time for Valentine's Day - here is an example from the
  National Cryptologic Museum (NCM) of sweetheart code. \n\nLieutenant Elwo
 od Williams III served in the U.S. Navy in WWII. When he was sent to the P
 acific Theater\, he devised a code to use when writing to his family. Obvi
 ously\, the censors would black out any reference to his location. To get 
 around the censors\, he used variations in his return address on his lette
 rs to his wife or to his parents so they would know approximately where he
  was in relation to latitude\, longitude\, and Pearl Harbor. \n\nLearn mor
 e about sweetheart codes from a prior NCM exhibition via the link provided
  below.
X-WR-RELCALID:76b4761399765c35a210e55a4be5eef7
X-WR-TIMEZONE:America/New_York
BEGIN:VTIMEZONE
TZID:America/New_York
BEGIN:STANDARD
TZNAME:EST
DTSTART:20251102T020000
TZOFFSETFROM:-0400
TZOFFSETTO:-0500
RDATE:20261101T020000
END:STANDARD
BEGIN:DAYLIGHT
TZNAME:EDT
DTSTART:20250309T020000
TZOFFSETFROM:-0500
TZOFFSETTO:-0400
RDATE:20260308T020000
RDATE:20270314T020000
END:DAYLIGHT
END:VTIMEZONE
BEGIN:VEVENT
UID:d0eb7873-9fd7-44de-8058-a4a7d83d5bdd
DTSTAMP:20260424T094043Z
DESCRIPTION:Just in time for Valentine's Day - here is an example from the 
 National Cryptologic Museum (NCM) of sweetheart code. \n\nLieutenant Elwoo
 d Williams III served in the U.S. Navy in WWII. When he was sent to the Pa
 cific Theater\, he devised a code to use when writing to his family. Obvio
 usly\, the censors would black out any reference to his location. To get a
 round the censors\, he used variations in his return address on his letter
 s to his wife or to his parents so they would know approximately where he 
 was in relation to latitude\, longitude\, and Pearl Harbor. \n\nLearn more
  about sweetheart codes from a prior NCM exhibition via the link provided 
 below.
DTSTART;TZID=America/New_York:20260214T060000
DTEND;TZID=America/New_York:20260214T060001
LOCATION:
SUMMARY:Sweetheart Codes
END:VEVENT
END:VCALENDAR
