BEGIN:VCALENDAR
VERSION:2.0
PRODID:-//archive.cryptologicfoundation.org//NONSGML kigkonsult.se iCalcrea
 tor 2.30.10//
CALSCALE:GREGORIAN
METHOD:PUBLISH
UID:60317798-0eea-4753-8f14-1fc632e9e33a
X-WR-CALDESC:15 February 1946: The ENIAC computer begins operating. Photo i
 s of Jean Jennings (left) and Frances Bilas set up the ENIAC in 1946. Bila
 s is arranging the program settings on the Master Programmer. Courtesy of 
 University of Pennsylvania and used in the article - 'The Forgotten Female
  Programmers Who Created Modern Tech.' To read the full article - see the 
 link at the end of the page.\n\nThere is also a link to an educational vid
 eo (via Bing) regarding how ENIAC came to be.\n\nBelow is an excerpt about
  the ENIAC from an article\, 'Top Intelligence Agency Supercomputers\,' by
  David Brown. Click the link at the end of the page to view the full artic
 le.\n\n<i>During World War II\, the Army commissioned the first general-pu
 rpose electronic computer. Described to the press as a “giant brain” (how 
 else would you describe a computer to a world that had never before seen o
 ne?)\, ENIAC cost $6 million in today’s dollars\, weighed 30 tons and took
  up 1800 square feet\, which is about the size of a house. Anecdotally\, i
 t used so much electricity to operate that each time it was switched on\, 
 it caused lights in Philadelphia to dim.\n\nThe system was developed to ca
 lculate artillery firing tables for the Ballistic Research Laboratory\, bu
 t when scientists from the Manhattan Project found out about it\, they co-
 opted the system to run calculations for the Bomb.</i>\n\nRead the full ar
 ticle via the link below.
X-WR-RELCALID:d5ff7f0696d9c830008f090bb0dea691
X-WR-TIMEZONE:America/New_York
BEGIN:VTIMEZONE
TZID:America/New_York
BEGIN:STANDARD
TZNAME:EST
DTSTART:20251102T020000
TZOFFSETFROM:-0400
TZOFFSETTO:-0500
RDATE:20261101T020000
END:STANDARD
BEGIN:DAYLIGHT
TZNAME:EDT
DTSTART:20250309T020000
TZOFFSETFROM:-0500
TZOFFSETTO:-0400
RDATE:20260308T020000
RDATE:20270314T020000
END:DAYLIGHT
END:VTIMEZONE
BEGIN:VEVENT
UID:b06c283b-af1f-4523-9ecf-45b932fbfbde
DTSTAMP:20260424T093339Z
DESCRIPTION:15 February 1946: The ENIAC computer begins operating. Photo is
  of Jean Jennings (left) and Frances Bilas set up the ENIAC in 1946. Bilas
  is arranging the program settings on the Master Programmer. Courtesy of U
 niversity of Pennsylvania and used in the article - 'The Forgotten Female 
 Programmers Who Created Modern Tech.' To read the full article - see the l
 ink at the end of the page.\n\nThere is also a link to an educational vide
 o (via Bing) regarding how ENIAC came to be.\n\nBelow is an excerpt about 
 the ENIAC from an article\, 'Top Intelligence Agency Supercomputers\,' by 
 David Brown. Click the link at the end of the page to view the full articl
 e.\n\n<i>During World War II\, the Army commissioned the first general-pur
 pose electronic computer. Described to the press as a “giant brain” (how e
 lse would you describe a computer to a world that had never before seen on
 e?)\, ENIAC cost $6 million in today’s dollars\, weighed 30 tons and took 
 up 1800 square feet\, which is about the size of a house. Anecdotally\, it
  used so much electricity to operate that each time it was switched on\, i
 t caused lights in Philadelphia to dim.\n\nThe system was developed to cal
 culate artillery firing tables for the Ballistic Research Laboratory\, but
  when scientists from the Manhattan Project found out about it\, they co-o
 pted the system to run calculations for the Bomb.</i>\n\nRead the full art
 icle via the link below.
DTSTART;TZID=America/New_York:20260215T060000
DTEND;TZID=America/New_York:20260215T060001
LOCATION:
SUMMARY:1946: The ENIAC computer begins operating.
END:VEVENT
END:VCALENDAR
