BEGIN:VCALENDAR
VERSION:2.0
PRODID:-//archive.cryptologicfoundation.org//NONSGML kigkonsult.se iCalcrea
 tor 2.30.10//
CALSCALE:GREGORIAN
METHOD:PUBLISH
UID:f15f94ff-24cb-47a3-b53d-915bb2b109ad
X-WR-CALDESC:In honor of President's Month - OTD - the DEC Alpha provided n
 uclear codes to US leadership for over 30 years.
X-WR-RELCALID:7cbe234322b957192e553c57d85fd4f3
X-WR-TIMEZONE:America/New_York
BEGIN:VTIMEZONE
TZID:America/New_York
BEGIN:STANDARD
TZNAME:EST
DTSTART:20251102T020000
TZOFFSETFROM:-0400
TZOFFSETTO:-0500
RDATE:20261101T020000
END:STANDARD
BEGIN:DAYLIGHT
TZNAME:EDT
DTSTART:20250309T020000
TZOFFSETFROM:-0500
TZOFFSETTO:-0400
RDATE:20260308T020000
RDATE:20270314T020000
END:DAYLIGHT
END:VTIMEZONE
BEGIN:VEVENT
UID:fd115d57-1cb7-4561-810c-87ad97816272
DTSTAMP:20260424T093336Z
DESCRIPTION:In honor of President's Month - OTD - the DEC Alpha provided nu
 clear codes to US leadership for over 30 years.
DTSTART;TZID=America/New_York:20260215T060000
DTEND;TZID=America/New_York:20260215T060001
LOCATION:
SUMMARY:President's Month OTD - DEC Alpha
END:VEVENT
END:VCALENDAR
