BEGIN:VCALENDAR
VERSION:2.0
PRODID:-//archive.cryptologicfoundation.org//NONSGML kigkonsult.se iCalcrea
 tor 2.30.10//
CALSCALE:GREGORIAN
METHOD:PUBLISH
UID:2a9a4327-376e-4e78-8df7-560c8347a8ea
X-WR-CALDESC:16 February 1973: Ribbon-cutting ceremony for the National SIG
 INT Operations Center (NSOC).
X-WR-RELCALID:8592e34cef7c0fa229cce553b700c5d2
X-WR-TIMEZONE:America/New_York
BEGIN:VTIMEZONE
TZID:America/New_York
BEGIN:STANDARD
TZNAME:EST
DTSTART:20251102T020000
TZOFFSETFROM:-0400
TZOFFSETTO:-0500
RDATE:20261101T020000
END:STANDARD
BEGIN:DAYLIGHT
TZNAME:EDT
DTSTART:20250309T020000
TZOFFSETFROM:-0500
TZOFFSETTO:-0400
RDATE:20260308T020000
RDATE:20270314T020000
END:DAYLIGHT
END:VTIMEZONE
BEGIN:VEVENT
UID:324bb15c-0d47-4556-9578-955669a1c33a
DTSTAMP:20260424T093832Z
DESCRIPTION:16 February 1973: Ribbon-cutting ceremony for the National SIGI
 NT Operations Center (NSOC).
DTSTART;TZID=America/New_York:20260216T000000
DTEND;TZID=America/New_York:20260216T235900
LOCATION:
SUMMARY:1973: Ribbon-cutting for National SIGINT Operations Center (NSOC)
END:VEVENT
END:VCALENDAR
