BEGIN:VCALENDAR
VERSION:2.0
PRODID:-//archive.cryptologicfoundation.org//NONSGML kigkonsult.se iCalcrea
 tor 2.30.10//
CALSCALE:GREGORIAN
METHOD:PUBLISH
UID:1b65d211-f3a8-4691-afc6-581ad94be2be
X-WR-CALDESC:16 February 1976: Although Congress opposed publication of the
  report\, the <i>Village Voice</i> published the full text of the classifi
 ed Pike Committee Report. The report was released by journalist Daniel Sch
 orr\, under the title 'The Report on the CIA that President Ford Doesn't W
 ant You to Read.' It was never determined as to who leaked the report to t
 he journalist.
X-WR-RELCALID:d939c13c65601291eef21ab0f1aa8b51
X-WR-TIMEZONE:America/New_York
BEGIN:VTIMEZONE
TZID:America/New_York
BEGIN:STANDARD
TZNAME:EST
DTSTART:20251102T020000
TZOFFSETFROM:-0400
TZOFFSETTO:-0500
RDATE:20261101T020000
END:STANDARD
BEGIN:DAYLIGHT
TZNAME:EDT
DTSTART:20250309T020000
TZOFFSETFROM:-0500
TZOFFSETTO:-0400
RDATE:20260308T020000
RDATE:20270314T020000
END:DAYLIGHT
END:VTIMEZONE
BEGIN:VEVENT
UID:b0f7aea0-3359-49f4-8054-2f3981118fe7
DTSTAMP:20260424T093635Z
DESCRIPTION:16 February 1976: Although Congress opposed publication of the 
 report\, the <i>Village Voice</i> published the full text of the classifie
 d Pike Committee Report. The report was released by journalist Daniel Scho
 rr\, under the title 'The Report on the CIA that President Ford Doesn't Wa
 nt You to Read.' It was never determined as to who leaked the report to th
 e journalist.
DTSTART;TZID=America/New_York:20260216T000000
DTEND;TZID=America/New_York:20260216T235900
LOCATION:
SUMMARY:1976: 'Village Voice' Published Full Pike Report
END:VEVENT
END:VCALENDAR
