BEGIN:VCALENDAR
VERSION:2.0
PRODID:-//archive.cryptologicfoundation.org//NONSGML kigkonsult.se iCalcrea
 tor 2.30.10//
CALSCALE:GREGORIAN
METHOD:PUBLISH
UID:4363c2eb-2efa-4469-9311-25791a9191c5
X-WR-CALDESC:1960: Howard Engstrom received the Exceptional Civilian Servic
 e Award. Engstrom served as Deputy Director of the NSA from 1957-1958.  He
  was a technical  leader in the Navy’s cryptologic work in World War II an
 d continued his participation in many roles after the war. He was also awa
 rded the Order of the British Empire. Along with William Norris and others
  he founded Engineering Research Associates in 1946. He was also one of th
 e co-creators of the Univac computer.\n\nYou can learn more about him in t
 he NSA CCH publication 'Cryptology's Role in the Early Development of Comp
 uter Capabilities in the United States' - link below. (starting pg 15)
X-WR-RELCALID:cf1ac3696a48064fae585bbd693ecb9d
X-WR-TIMEZONE:America/New_York
BEGIN:VTIMEZONE
TZID:America/New_York
BEGIN:STANDARD
TZNAME:EST
DTSTART:20251102T020000
TZOFFSETFROM:-0400
TZOFFSETTO:-0500
RDATE:20261101T020000
END:STANDARD
BEGIN:DAYLIGHT
TZNAME:EDT
DTSTART:20250309T020000
TZOFFSETFROM:-0500
TZOFFSETTO:-0400
RDATE:20260308T020000
RDATE:20270314T020000
END:DAYLIGHT
END:VTIMEZONE
BEGIN:VEVENT
UID:3d43d37b-c8ce-42c5-8066-a0470101363f
DTSTAMP:20260424T093030Z
DESCRIPTION:1960: Howard Engstrom received the Exceptional Civilian Service
  Award. Engstrom served as Deputy Director of the NSA from 1957-1958.  He 
 was a technical  leader in the Navy’s cryptologic work in World War II and
  continued his participation in many roles after the war. He was also awar
 ded the Order of the British Empire. Along with William Norris and others 
 he founded Engineering Research Associates in 1946. He was also one of the
  co-creators of the Univac computer.\n\nYou can learn more about him in th
 e NSA CCH publication 'Cryptology's Role in the Early Development of Compu
 ter Capabilities in the United States' - link below. (starting pg 15)
DTSTART;TZID=America/New_York:20260217T000000
DTEND;TZID=America/New_York:20260217T235900
LOCATION:
SUMMARY:1960: Howard Engstrom - Exceptional Service
END:VEVENT
END:VCALENDAR
