BEGIN:VCALENDAR
VERSION:2.0
PRODID:-//archive.cryptologicfoundation.org//NONSGML kigkonsult.se iCalcrea
 tor 2.30.10//
CALSCALE:GREGORIAN
METHOD:PUBLISH
UID:a91dc907-55dc-4fff-8e2b-d4bfdd24809b
X-WR-CALDESC:17 February 1972: NSCID 6 established CSS (Central Security Se
 rvice). The CSS was established by presidential directive in 1972 to promo
 te full partnership between NSA and the Service Cryptologic Components of 
 the U.S. Armed Forces. This new command created a more unified cryptologic
  effort by combining NSA and CSS. The Director of NSA is dual-hatted as th
 e Chief of CSS. The Central Security Service provides timely and accurate 
 cryptologic support\, knowledge\, and assistance to the military cryptolog
 ic community. \n\nAn earlier version of the directive was issued in 1958\,
  when NSA was first assigned responsibility for electronics intelligence. 
 \n\nLearn more via the NSA.gov links below.
X-WR-RELCALID:a906bb0ad66869f544a7ddfa45bed752
X-WR-TIMEZONE:America/New_York
BEGIN:VTIMEZONE
TZID:America/New_York
BEGIN:STANDARD
TZNAME:EST
DTSTART:20251102T020000
TZOFFSETFROM:-0400
TZOFFSETTO:-0500
RDATE:20261101T020000
END:STANDARD
BEGIN:DAYLIGHT
TZNAME:EDT
DTSTART:20250309T020000
TZOFFSETFROM:-0500
TZOFFSETTO:-0400
RDATE:20260308T020000
RDATE:20270314T020000
END:DAYLIGHT
END:VTIMEZONE
BEGIN:VEVENT
UID:9a40ad3b-f9a7-400a-9f8b-6d7abc5d9107
DTSTAMP:20260424T093100Z
DESCRIPTION:17 February 1972: NSCID 6 established CSS (Central Security Ser
 vice). The CSS was established by presidential directive in 1972 to promot
 e full partnership between NSA and the Service Cryptologic Components of t
 he U.S. Armed Forces. This new command created a more unified cryptologic 
 effort by combining NSA and CSS. The Director of NSA is dual-hatted as the
  Chief of CSS. The Central Security Service provides timely and accurate c
 ryptologic support\, knowledge\, and assistance to the military cryptologi
 c community. \n\nAn earlier version of the directive was issued in 1958\, 
 when NSA was first assigned responsibility for electronics intelligence. 
 \n\nLearn more via the NSA.gov links below.
DTSTART;TZID=America/New_York:20260217T060000
DTEND;TZID=America/New_York:20260217T060001
LOCATION:
SUMMARY:1972: NSCID 6 established CSS.
END:VEVENT
END:VCALENDAR
