BEGIN:VCALENDAR
VERSION:2.0
PRODID:-//archive.cryptologicfoundation.org//NONSGML kigkonsult.se iCalcrea
 tor 2.30.10//
CALSCALE:GREGORIAN
METHOD:PUBLISH
UID:ca3da86d-0256-482c-b5b3-d32186f348c4
X-WR-CALDESC:18 February 1933: Government seizure of cryptologist Herbert Y
 ardley's never-published book\, 'Japanese Diplomatic Secrets.'  \n\nThe bo
 ok was to be an account of the diplomatic maneuvering behind the Washingto
 n arms conference as revealed through intercepted translated Japanese comm
 unications. The book was seized under Section 32\, Title 50 of the US Code
  which prohibited the taking of secret documents. The never published book
  owes its fame to the legislation it created\, officially known as 'An Act
  for the Protection of Government Records.'According to author James Bamfo
 rd\, it was 'the first and only manuscript in American literary history to
  be seized and impounded for national security reasons by the United State
 s government.'\n\nLEARN MORE about Yardley via the link below.
X-WR-RELCALID:5a40995e1e91c93481e037a86371b3c3
X-WR-TIMEZONE:America/New_York
BEGIN:VTIMEZONE
TZID:America/New_York
BEGIN:STANDARD
TZNAME:EST
DTSTART:20251102T020000
TZOFFSETFROM:-0400
TZOFFSETTO:-0500
RDATE:20261101T020000
END:STANDARD
BEGIN:DAYLIGHT
TZNAME:EDT
DTSTART:20250309T020000
TZOFFSETFROM:-0500
TZOFFSETTO:-0400
RDATE:20260308T020000
RDATE:20270314T020000
END:DAYLIGHT
END:VTIMEZONE
BEGIN:VEVENT
UID:208aebe4-2f92-46f8-bacb-c1090b83f874
DTSTAMP:20260424T094003Z
DESCRIPTION:18 February 1933: Government seizure of cryptologist Herbert Ya
 rdley's never-published book\, 'Japanese Diplomatic Secrets.'  \n\nThe boo
 k was to be an account of the diplomatic maneuvering behind the Washington
  arms conference as revealed through intercepted translated Japanese commu
 nications. The book was seized under Section 32\, Title 50 of the US Code 
 which prohibited the taking of secret documents. The never published book 
 owes its fame to the legislation it created\, officially known as 'An Act 
 for the Protection of Government Records.'According to author James Bamfor
 d\, it was 'the first and only manuscript in American literary history to 
 be seized and impounded for national security reasons by the United States
  government.'\n\nLEARN MORE about Yardley via the link below.
DTSTART;TZID=America/New_York:20260218T000000
DTEND;TZID=America/New_York:20260218T235900
LOCATION:
SUMMARY:1933: Government seizure of cryptologist Herbert Yardley's 'Japanes
 e Diplomatic Secrets.'
END:VEVENT
END:VCALENDAR
