BEGIN:VCALENDAR
VERSION:2.0
PRODID:-//archive.cryptologicfoundation.org//NONSGML kigkonsult.se iCalcrea
 tor 2.30.10//
CALSCALE:GREGORIAN
METHOD:PUBLISH
UID:918d39f0-10c0-4a33-9333-f0ff0d639ecf
X-WR-CALDESC:19 February 1977:  Congress overlooks Benedict Arnold\, the he
 ro of Saratoga and Ticonderoga\, for promotion to major general in favor o
 f five other junior officers. Infuriated\, Arnold ends up making his trait
 orous deal to sell the garrison of West Point to the British. He used a di
 ctionary code in his correspondence to British in which he proposed the ag
 reement. \n\nRead about the whole ordeal on pages 24 - 30 of the NSA publi
 cation 'Revolutionary Secrets: Cryptology in the American Revolution' link
 ed below.
X-WR-RELCALID:b94faafce5b6c234c2c971f22444bac1
X-WR-TIMEZONE:America/New_York
BEGIN:VTIMEZONE
TZID:America/New_York
BEGIN:STANDARD
TZNAME:EST
DTSTART:20251102T020000
TZOFFSETFROM:-0400
TZOFFSETTO:-0500
RDATE:20261101T020000
END:STANDARD
BEGIN:DAYLIGHT
TZNAME:EDT
DTSTART:20250309T020000
TZOFFSETFROM:-0500
TZOFFSETTO:-0400
RDATE:20260308T020000
RDATE:20270314T020000
END:DAYLIGHT
END:VTIMEZONE
BEGIN:VEVENT
UID:d35fb8a2-f6af-4e35-8a4a-81baa1df3223
DTSTAMP:20260424T111551Z
DESCRIPTION:19 February 1977:  Congress overlooks Benedict Arnold\, the her
 o of Saratoga and Ticonderoga\, for promotion to major general in favor of
  five other junior officers. Infuriated\, Arnold ends up making his traito
 rous deal to sell the garrison of West Point to the British. He used a dic
 tionary code in his correspondence to British in which he proposed the agr
 eement. \n\nRead about the whole ordeal on pages 24 - 30 of the NSA public
 ation 'Revolutionary Secrets: Cryptology in the American Revolution' linke
 d below.
DTSTART;TZID=America/New_York:20260221T000000
DTEND;TZID=America/New_York:20260221T235900
LOCATION:
SUMMARY:1777: Benedict Arnold overlooked for promotion.
END:VEVENT
END:VCALENDAR
