BEGIN:VCALENDAR
VERSION:2.0
PRODID:-//archive.cryptologicfoundation.org//NONSGML kigkonsult.se iCalcrea
 tor 2.30.10//
CALSCALE:GREGORIAN
METHOD:PUBLISH
UID:2363e023-7d0a-4937-a104-ed9b6cdae554
X-WR-CALDESC:23 February 1927: Radio Intercept Act of 1927 prohibited radio
  intercept in the U.S.
X-WR-RELCALID:65a23576a8a3ebafb2a09e9621e26bce
X-WR-TIMEZONE:America/New_York
BEGIN:VTIMEZONE
TZID:America/New_York
BEGIN:STANDARD
TZNAME:EST
DTSTART:20251102T020000
TZOFFSETFROM:-0400
TZOFFSETTO:-0500
RDATE:20261101T020000
END:STANDARD
BEGIN:DAYLIGHT
TZNAME:EDT
DTSTART:20250309T020000
TZOFFSETFROM:-0500
TZOFFSETTO:-0400
RDATE:20260308T020000
RDATE:20270314T020000
END:DAYLIGHT
END:VTIMEZONE
BEGIN:VEVENT
UID:46d58159-6dfe-41b3-b31d-20cdd75323ca
DTSTAMP:20260424T093825Z
DESCRIPTION:23 February 1927: Radio Intercept Act of 1927 prohibited radio 
 intercept in the U.S.
DTSTART;TZID=America/New_York:20260223T000000
DTEND;TZID=America/New_York:20260223T235900
LOCATION:
SUMMARY:1927: Radio Act of 1927.
END:VEVENT
END:VCALENDAR
