BEGIN:VCALENDAR
VERSION:2.0
PRODID:-//archive.cryptologicfoundation.org//NONSGML kigkonsult.se iCalcrea
 tor 2.30.10//
CALSCALE:GREGORIAN
METHOD:PUBLISH
UID:91a96528-db5a-4e4a-986f-a9bb7bc40ed8
X-WR-CALDESC:23 February 1996: Lt Gen Kenneth Minihan became Director of th
 e National Security Agency.
X-WR-RELCALID:6f34a70cdadccb6fdbb4e075d45c1623
X-WR-TIMEZONE:America/New_York
BEGIN:VTIMEZONE
TZID:America/New_York
BEGIN:STANDARD
TZNAME:EST
DTSTART:20251102T020000
TZOFFSETFROM:-0400
TZOFFSETTO:-0500
RDATE:20261101T020000
END:STANDARD
BEGIN:DAYLIGHT
TZNAME:EDT
DTSTART:20250309T020000
TZOFFSETFROM:-0500
TZOFFSETTO:-0400
RDATE:20260308T020000
RDATE:20270314T020000
END:DAYLIGHT
END:VTIMEZONE
BEGIN:VEVENT
UID:d68c2417-69e5-4569-81fd-d416f8d45746
DTSTAMP:20260424T093515Z
DESCRIPTION:23 February 1996: Lt Gen Kenneth Minihan became Director of the
  National Security Agency.
DTSTART;TZID=America/New_York:20260223T000000
DTEND;TZID=America/New_York:20260223T235900
LOCATION:
SUMMARY:1996: Lt Gen Kenneth Minihan\, USAF\, became DIRNSA.
END:VEVENT
END:VCALENDAR
