BEGIN:VCALENDAR
VERSION:2.0
PRODID:-//archive.cryptologicfoundation.org//NONSGML kigkonsult.se iCalcrea
 tor 2.30.10//
CALSCALE:GREGORIAN
METHOD:PUBLISH
UID:0c2fea09-b615-4e77-a244-ed4928871df9
X-WR-CALDESC:25 February 1863: The U.S. Government took control of commerci
 al telegraph companies for the duration of the Civil War.
X-WR-RELCALID:517334b278f1cdf366a514441257a518
X-WR-TIMEZONE:America/New_York
BEGIN:VTIMEZONE
TZID:America/New_York
BEGIN:STANDARD
TZNAME:EST
DTSTART:20251102T020000
TZOFFSETFROM:-0400
TZOFFSETTO:-0500
RDATE:20261101T020000
END:STANDARD
BEGIN:DAYLIGHT
TZNAME:EDT
DTSTART:20250309T020000
TZOFFSETFROM:-0500
TZOFFSETTO:-0400
RDATE:20260308T020000
RDATE:20270314T020000
END:DAYLIGHT
END:VTIMEZONE
BEGIN:VEVENT
UID:5307b082-0f10-407e-8477-8cbfda6ccbde
DTSTAMP:20260424T094002Z
DESCRIPTION:25 February 1863: The U.S. Government took control of commercia
 l telegraph companies for the duration of the Civil War.
DTSTART;TZID=America/New_York:20260225T000000
DTEND;TZID=America/New_York:20260225T235900
LOCATION:
SUMMARY:1863: US govt took control of commercial telegraphs during Civil Wa
 r.
END:VEVENT
END:VCALENDAR
