BEGIN:VCALENDAR
VERSION:2.0
PRODID:-//archive.cryptologicfoundation.org//NONSGML kigkonsult.se iCalcrea
 tor 2.30.10//
CALSCALE:GREGORIAN
METHOD:PUBLISH
UID:0cc5c789-09a3-42b0-977e-be42f72962bb
X-WR-CALDESC:26 February 1881: Joseph Mauborgne\, expert on codes and ciphe
 rs and WWI Army Signal Corps Officer\, was born on this date.\n\nFrom Wiki
 pedia: \nJoseph Mauborgne co-invented the one-time pad with Gilbert Vernam
  of Bell Labs. In 1914 he published the first recorded solution of the Pla
 yfair cipher. Mauborgne became a Major General in the United States Army\,
  and from October 1937 to his retirement in 1941 was the Army's 12th Chief
  Signal Officer\, in command of the Signal Corps.
X-WR-RELCALID:9d60e28204d9036d7129c99511fd8ab5
X-WR-TIMEZONE:America/New_York
BEGIN:VTIMEZONE
TZID:America/New_York
BEGIN:STANDARD
TZNAME:EST
DTSTART:20251102T020000
TZOFFSETFROM:-0400
TZOFFSETTO:-0500
RDATE:20261101T020000
END:STANDARD
BEGIN:DAYLIGHT
TZNAME:EDT
DTSTART:20250309T020000
TZOFFSETFROM:-0500
TZOFFSETTO:-0400
RDATE:20260308T020000
RDATE:20270314T020000
END:DAYLIGHT
END:VTIMEZONE
BEGIN:VEVENT
UID:acc34118-5149-4985-be81-8c6e35c88c9b
DTSTAMP:20260424T093147Z
DESCRIPTION:26 February 1881: Joseph Mauborgne\, expert on codes and cipher
 s and WWI Army Signal Corps Officer\, was born on this date.\n\nFrom Wikip
 edia: \nJoseph Mauborgne co-invented the one-time pad with Gilbert Vernam 
 of Bell Labs. In 1914 he published the first recorded solution of the Play
 fair cipher. Mauborgne became a Major General in the United States Army\, 
 and from October 1937 to his retirement in 1941 was the Army's 12th Chief 
 Signal Officer\, in command of the Signal Corps.
DTSTART;TZID=America/New_York:20260226T000000
DTEND;TZID=America/New_York:20260226T235900
LOCATION:
SUMMARY:1881: Joseph Mauborgne\, code & cipher expert\, was born.
END:VEVENT
END:VCALENDAR
