BEGIN:VCALENDAR
VERSION:2.0
PRODID:-//archive.cryptologicfoundation.org//NONSGML kigkonsult.se iCalcrea
 tor 2.30.10//
CALSCALE:GREGORIAN
METHOD:PUBLISH
UID:e9000fcc-c79e-45df-8793-21c96c106b04
X-WR-CALDESC:26 February 1981: NSA sponsored exhibit formally opened at the
  Smithsonian and was open for one year. The exhibit\, 'Cipher Machines: Wo
 rld War I - World War II' featured devices ranging from the 1910 cipher di
 sk to the German Enigma and the US SIGABA. Commercial machines of the 1920
 s and 1930s were also on display. Learn more via the pdf link below.
X-WR-RELCALID:666de986b8b1fdbd5dec9068c621f9aa
X-WR-TIMEZONE:America/New_York
BEGIN:VTIMEZONE
TZID:America/New_York
BEGIN:STANDARD
TZNAME:EST
DTSTART:20251102T020000
TZOFFSETFROM:-0400
TZOFFSETTO:-0500
RDATE:20261101T020000
END:STANDARD
BEGIN:DAYLIGHT
TZNAME:EDT
DTSTART:20250309T020000
TZOFFSETFROM:-0500
TZOFFSETTO:-0400
RDATE:20260308T020000
RDATE:20270314T020000
END:DAYLIGHT
END:VTIMEZONE
BEGIN:VEVENT
UID:953f3003-2a87-4e91-b452-cb27f99191b6
DTSTAMP:20260424T093306Z
DESCRIPTION:26 February 1981: NSA sponsored exhibit formally opened at the 
 Smithsonian and was open for one year. The exhibit\, 'Cipher Machines: Wor
 ld War I - World War II' featured devices ranging from the 1910 cipher dis
 k to the German Enigma and the US SIGABA. Commercial machines of the 1920s
  and 1930s were also on display. Learn more via the pdf link below.
DTSTART;TZID=America/New_York:20260226T000000
DTEND;TZID=America/New_York:20260226T235900
LOCATION:
SUMMARY:1981: NSA sponsored exhibit opened at Smithsonian.
END:VEVENT
END:VCALENDAR
