BEGIN:VCALENDAR
VERSION:2.0
PRODID:-//archive.cryptologicfoundation.org//NONSGML kigkonsult.se iCalcrea
 tor 2.30.10//
CALSCALE:GREGORIAN
METHOD:PUBLISH
UID:a1b2c7c8-1c29-4935-bbc9-ae0d26b6a74b
X-WR-CALDESC:1 March 1918: German ADFGVX cipher was first used. Invented by
  Colonel Fritz Nebel and introduced in March 1918\, the cipher was a fract
 ionating transposition cipher which combined a modified Polybius square wi
 th a single columnar transposition.
X-WR-RELCALID:ee079adaef6478a7d9f7dc23a661e607
X-WR-TIMEZONE:America/New_York
BEGIN:VTIMEZONE
TZID:America/New_York
BEGIN:STANDARD
TZNAME:EST
DTSTART:20251102T020000
TZOFFSETFROM:-0400
TZOFFSETTO:-0500
RDATE:20261101T020000
END:STANDARD
BEGIN:DAYLIGHT
TZNAME:EDT
DTSTART:20250309T020000
TZOFFSETFROM:-0500
TZOFFSETTO:-0400
RDATE:20260308T020000
RDATE:20270314T020000
END:DAYLIGHT
END:VTIMEZONE
BEGIN:VEVENT
UID:17586772-532e-4ddb-8327-e6a127a0a9ca
DTSTAMP:20260424T064205Z
DESCRIPTION:1 March 1918: German ADFGVX cipher was first used. Invented by 
 Colonel Fritz Nebel and introduced in March 1918\, the cipher was a fracti
 onating transposition cipher which combined a modified Polybius square wit
 h a single columnar transposition.
DTSTART;TZID=America/New_York:20260301T000000
DTEND;TZID=America/New_York:20260301T235900
LOCATION:
SUMMARY:1918: German ADFGVX cipher first used.
END:VEVENT
END:VCALENDAR
