BEGIN:VCALENDAR
VERSION:2.0
PRODID:-//archive.cryptologicfoundation.org//NONSGML kigkonsult.se iCalcrea
 tor 2.30.10//
CALSCALE:GREGORIAN
METHOD:PUBLISH
UID:c89b1ccf-e1d4-4417-a8fe-2e0e785ce16d
X-WR-CALDESC:1 March 1951: Shelby Patterson became chief of the AFSA school
 .
X-WR-RELCALID:4e1c91add837c7cdc4347c617ee4914d
X-WR-TIMEZONE:America/New_York
BEGIN:VTIMEZONE
TZID:America/New_York
BEGIN:STANDARD
TZNAME:EST
DTSTART:20251102T020000
TZOFFSETFROM:-0400
TZOFFSETTO:-0500
RDATE:20261101T020000
END:STANDARD
BEGIN:DAYLIGHT
TZNAME:EDT
DTSTART:20250309T020000
TZOFFSETFROM:-0500
TZOFFSETTO:-0400
RDATE:20260308T020000
RDATE:20270314T020000
END:DAYLIGHT
END:VTIMEZONE
BEGIN:VEVENT
UID:12af95e7-bb2d-4dfb-8ad0-b1afba74900b
DTSTAMP:20260424T074846Z
DESCRIPTION:1 March 1951: Shelby Patterson became chief of the AFSA school.
DTSTART;TZID=America/New_York:20260301T000000
DTEND;TZID=America/New_York:20260301T235900
LOCATION:
SUMMARY:1951: Shelby Patterson became chief of the AFSA school.
END:VEVENT
END:VCALENDAR
