BEGIN:VCALENDAR
VERSION:2.0
PRODID:-//archive.cryptologicfoundation.org//NONSGML kigkonsult.se iCalcrea
 tor 2.30.10//
CALSCALE:GREGORIAN
METHOD:PUBLISH
UID:b111d659-a9bf-4420-a49a-c301a9341f4b
X-WR-CALDESC:On March 1\, 1971\, a U.S. Army UH-1 Huey (LEFT BANK) helicopt
 er was shot down near Dambe\, Cambodia. All aboard the helicopter were kil
 led. The mission crew\, SP5 Gary David and SP4 Frank Sablan\, both Radio I
 ntercept Operators\, were assigned to the 371st Radio Research Company. Th
 e flight crew\, WO1 Paul Black and WO1 Robert Uhl\, were from the 1st Cava
 lry Division. The 371st RRC's mission was to provide combat information to
  the division commander in pursuit of his war-fighting mission. They inter
 cepted enemy radio transmissions and fixed the transmission location throu
 gh triangulation. This was then reported to the division for combat action
 . The UH-1 was configured with radio direction finding equipment and was u
 narmed when it was shot down. (Photo from Army.mil)
X-WR-RELCALID:6ce787a5016cdad48599fc4761f89b4d
X-WR-TIMEZONE:America/New_York
BEGIN:VTIMEZONE
TZID:America/New_York
BEGIN:STANDARD
TZNAME:EST
DTSTART:20251102T020000
TZOFFSETFROM:-0400
TZOFFSETTO:-0500
RDATE:20261101T020000
END:STANDARD
BEGIN:DAYLIGHT
TZNAME:EDT
DTSTART:20250309T020000
TZOFFSETFROM:-0500
TZOFFSETTO:-0400
RDATE:20260308T020000
RDATE:20270314T020000
END:DAYLIGHT
END:VTIMEZONE
BEGIN:VEVENT
UID:12919f28-d116-471a-aab3-79037ca78bb5
DTSTAMP:20260424T074550Z
DESCRIPTION:On March 1\, 1971\, a U.S. Army UH-1 Huey (LEFT BANK) helicopte
 r was shot down near Dambe\, Cambodia. All aboard the helicopter were kill
 ed. The mission crew\, SP5 Gary David and SP4 Frank Sablan\, both Radio In
 tercept Operators\, were assigned to the 371st Radio Research Company. The
  flight crew\, WO1 Paul Black and WO1 Robert Uhl\, were from the 1st Caval
 ry Division. The 371st RRC's mission was to provide combat information to 
 the division commander in pursuit of his war-fighting mission. They interc
 epted enemy radio transmissions and fixed the transmission location throug
 h triangulation. This was then reported to the division for combat action.
  The UH-1 was configured with radio direction finding equipment and was un
 armed when it was shot down. (Photo from Army.mil)
DTSTART;TZID=America/New_York:20260301T000000
DTEND;TZID=America/New_York:20260301T235900
LOCATION:
SUMMARY:1971: Loss of Army UH-1 & its crew.
END:VEVENT
END:VCALENDAR
