BEGIN:VCALENDAR
VERSION:2.0
PRODID:-//archive.cryptologicfoundation.org//NONSGML kigkonsult.se iCalcrea
 tor 2.30.10//
CALSCALE:GREGORIAN
METHOD:PUBLISH
UID:759b19b0-4e54-4a5d-96b9-e009d073b3da
X-WR-CALDESC:2 March 1971: On this date in 1971\, cryptologic pioneer Colon
 el Parker Hitt died. He was inducted into the NSA/CSS Cryptologic Hall of 
 Honor in 2011. Read about his career and accomplishments in the NSA Crypto
 logic Hall of Honor entry about Parker Hitt via the link below. \n\nHitt's
  work\, 'The Manual for the Solution of Military Ciphers\,' published in 1
 916\, was the first work of its kind in the United States in 100 years and
  laid the foundation for the nation's impressive cryptologic achievements 
 during the 20th century. At a time when the nation had no formal cryptolog
 ic service\, Parker Hitt's innovative work documented concepts and princip
 les that would be used to protect U.S. military communications for decades
 . His work also directly influenced William and Elizebeth Friedman\, who r
 eferred to him as the 'father of modern American cryptology.' \n\nColonel 
 Hitt's wife Genevieve Young Hitt (who had knack for cipher work) has been 
 credited with assisting in the preparation and compilation of her husband'
 s seminal work - 'The Manual for the Solution of Military Ciphers' (mentio
 ned above). Learn more about Genevieve Young Hitt via the link below.\n\nY
 ou can also learn more about Col. Parker Hitt by reading Betsy Rohaly Smoo
 t's book - 'Parker Hitt: The Father of American Military Cryptology.' See 
 link below to learn about the book.
X-WR-RELCALID:2cdf406475ad803cc8d918a43cbf4774
X-WR-TIMEZONE:America/New_York
BEGIN:VTIMEZONE
TZID:America/New_York
BEGIN:STANDARD
TZNAME:EST
DTSTART:20251102T020000
TZOFFSETFROM:-0400
TZOFFSETTO:-0500
RDATE:20261101T020000
END:STANDARD
BEGIN:DAYLIGHT
TZNAME:EDT
DTSTART:20250309T020000
TZOFFSETFROM:-0500
TZOFFSETTO:-0400
RDATE:20260308T020000
RDATE:20270314T020000
END:DAYLIGHT
END:VTIMEZONE
BEGIN:VEVENT
UID:bde59837-faae-4da1-b5c8-b89104b71a9d
DTSTAMP:20260424T074359Z
DESCRIPTION:2 March 1971: On this date in 1971\, cryptologic pioneer Colone
 l Parker Hitt died. He was inducted into the NSA/CSS Cryptologic Hall of H
 onor in 2011. Read about his career and accomplishments in the NSA Cryptol
 ogic Hall of Honor entry about Parker Hitt via the link below. \n\nHitt's 
 work\, 'The Manual for the Solution of Military Ciphers\,' published in 19
 16\, was the first work of its kind in the United States in 100 years and 
 laid the foundation for the nation's impressive cryptologic achievements d
 uring the 20th century. At a time when the nation had no formal cryptologi
 c service\, Parker Hitt's innovative work documented concepts and principl
 es that would be used to protect U.S. military communications for decades.
  His work also directly influenced William and Elizebeth Friedman\, who re
 ferred to him as the 'father of modern American cryptology.' \n\nColonel H
 itt's wife Genevieve Young Hitt (who had knack for cipher work) has been c
 redited with assisting in the preparation and compilation of her husband's
  seminal work - 'The Manual for the Solution of Military Ciphers' (mention
 ed above). Learn more about Genevieve Young Hitt via the link below.\n\nYo
 u can also learn more about Col. Parker Hitt by reading Betsy Rohaly Smoot
 's book - 'Parker Hitt: The Father of American Military Cryptology.' See l
 ink below to learn about the book.
DTSTART;TZID=America/New_York:20260302T060000
DTEND;TZID=America/New_York:20260302T060001
LOCATION:
SUMMARY:1971: Cryptologic Pioneer Colonel Parker Hitt.
END:VEVENT
END:VCALENDAR
