BEGIN:VCALENDAR
VERSION:2.0
PRODID:-//archive.cryptologicfoundation.org//NONSGML kigkonsult.se iCalcrea
 tor 2.30.10//
CALSCALE:GREGORIAN
METHOD:PUBLISH
UID:6811dd10-f673-4e15-b61f-0b7f07863d87
X-WR-CALDESC:4 March 1971: Army RU-8 shot down\, Vietnam.
X-WR-RELCALID:a210abb24bc51f477408b5514396edde
X-WR-TIMEZONE:America/New_York
BEGIN:VTIMEZONE
TZID:America/New_York
BEGIN:STANDARD
TZNAME:EST
DTSTART:20251102T020000
TZOFFSETFROM:-0400
TZOFFSETTO:-0500
RDATE:20261101T020000
END:STANDARD
BEGIN:DAYLIGHT
TZNAME:EDT
DTSTART:20250309T020000
TZOFFSETFROM:-0500
TZOFFSETTO:-0400
RDATE:20260308T020000
RDATE:20270314T020000
END:DAYLIGHT
END:VTIMEZONE
BEGIN:VEVENT
UID:706aa3a3-7c19-4ee1-8d88-38b0c0ddc323
DTSTAMP:20260424T074405Z
DESCRIPTION:4 March 1971: Army RU-8 shot down\, Vietnam.
DTSTART;TZID=America/New_York:20260304T000000
DTEND;TZID=America/New_York:20260304T235900
LOCATION:
SUMMARY:1971: Army RU-8 shot down\, Vietnam.
END:VEVENT
END:VCALENDAR
