BEGIN:VCALENDAR
VERSION:2.0
PRODID:-//archive.cryptologicfoundation.org//NONSGML kigkonsult.se iCalcrea
 tor 2.30.10//
CALSCALE:GREGORIAN
METHOD:PUBLISH
UID:f04b60ac-973f-4f82-ab28-126e4b636ce2
X-WR-CALDESC:4 March 1975: STONEHOUSE site officially closed. The signals c
 ollection site was located in Asmara\, Ethiopia and closed prematurely due
  to civil war.\n\nLearn more via the NSA.gov STONEHOUSE PDF - linked below
 .
X-WR-RELCALID:66d0de56c4080747ebe2aefe9fb83471
X-WR-TIMEZONE:America/New_York
BEGIN:VTIMEZONE
TZID:America/New_York
BEGIN:STANDARD
TZNAME:EST
DTSTART:20251102T020000
TZOFFSETFROM:-0400
TZOFFSETTO:-0500
RDATE:20261101T020000
END:STANDARD
BEGIN:DAYLIGHT
TZNAME:EDT
DTSTART:20250309T020000
TZOFFSETFROM:-0500
TZOFFSETTO:-0400
RDATE:20260308T020000
RDATE:20270314T020000
END:DAYLIGHT
END:VTIMEZONE
BEGIN:VEVENT
UID:c9db388d-6f13-4bbe-b437-f17fcf63c204
DTSTAMP:20260424T074338Z
DESCRIPTION:4 March 1975: STONEHOUSE site officially closed. The signals co
 llection site was located in Asmara\, Ethiopia and closed prematurely due 
 to civil war.\n\nLearn more via the NSA.gov STONEHOUSE PDF - linked below.
DTSTART;TZID=America/New_York:20260304T000000
DTEND;TZID=America/New_York:20260304T235900
LOCATION:
SUMMARY:1975: STONEHOUSE site officially closed.
END:VEVENT
END:VCALENDAR
