BEGIN:VCALENDAR
VERSION:2.0
PRODID:-//archive.cryptologicfoundation.org//NONSGML kigkonsult.se iCalcrea
 tor 2.30.10//
CALSCALE:GREGORIAN
METHOD:PUBLISH
UID:66ab69eb-c52a-486c-a642-8c0d389ae03c
X-WR-CALDESC:5 March 1946: BRUSA Communications Intelligence Agreement cont
 inues US/UK partnership after WWII.
X-WR-RELCALID:9d2725449091de1a6532666ce25df563
X-WR-TIMEZONE:America/New_York
BEGIN:VTIMEZONE
TZID:America/New_York
BEGIN:STANDARD
TZNAME:EST
DTSTART:20251102T020000
TZOFFSETFROM:-0400
TZOFFSETTO:-0500
RDATE:20261101T020000
END:STANDARD
BEGIN:DAYLIGHT
TZNAME:EDT
DTSTART:20250309T020000
TZOFFSETFROM:-0500
TZOFFSETTO:-0400
RDATE:20260308T020000
RDATE:20270314T020000
END:DAYLIGHT
END:VTIMEZONE
BEGIN:VEVENT
UID:666d6f1e-2418-4f32-9332-1135fe1d023d
DTSTAMP:20260424T080331Z
DESCRIPTION:5 March 1946: BRUSA Communications Intelligence Agreement conti
 nues US/UK partnership after WWII.
DTSTART;TZID=America/New_York:20260305T000000
DTEND;TZID=America/New_York:20260305T235900
LOCATION:
SUMMARY:1946: BRUSA Communications Intelligence Agreement
END:VEVENT
END:VCALENDAR
