BEGIN:VCALENDAR
VERSION:2.0
PRODID:-//archive.cryptologicfoundation.org//NONSGML kigkonsult.se iCalcrea
 tor 2.30.10//
CALSCALE:GREGORIAN
METHOD:PUBLISH
UID:02a05e1b-f9dd-4e07-863a-ffe9f0238be1
X-WR-CALDESC:6 March 1924: William Friedman testified before a Senate commi
 ttee investigating the Teapot Dome scandal. \n\nIn 1924 William Friedman t
 estified before a congressional committee regarding coded telegrams exchan
 ged during the Teapot Dome scandal (Herzog 2000)\, which involved the secr
 et leasing of U.S. government-owned lands to private developers in exchang
 e for bribes. The oil-rich land was meant to provide U.S. naval ships with
  fuel in a national emergency. Then-Secretary of the Interior Albert Fall 
 first got jurisdiction over the land transferred from the Department of th
 e Navy to the Department of the Interior\, then secretly leased the land t
 o two oil companies. The scandal was also known as the Oil Reserves and El
 k Hills scandal. Though Friedman's testimony about coded telegrams added a
 n air of intrigue to the proceedings\, there was little cryptanalytic heav
 y-lifting involved as the incriminating messages were encoded with readily
  available codebooks\, including one used by the Department of Justice. Fr
 iedman’s decryption of the coded telegrams led to a prison sentence for Fa
 ll and the resignation of other top government officials\, including the S
 ecretary of the Navy and the Attorney General (Bennett 1999\; Herzog 2000)
 .\n\nBennett\, Leslie E. One lesson from history: Appointment of special c
 ounsel in the investigation of the Teapot Dome scandal\, A Summary of the 
 Teapot Dome Scandal from the Brookings Institution [Online]. (1999). \n\nH
 erzog\, Brad. The best code cracker of them all\, Cornell Alumni Magazine 
 [Online]. (January–February 2000). \n\nWilliam Friedman Photo Credit: NCM
 \n
X-WR-RELCALID:167d322b6ff789f7cfd8f50146d0c0c1
X-WR-TIMEZONE:America/New_York
BEGIN:VTIMEZONE
TZID:America/New_York
BEGIN:STANDARD
TZNAME:EST
DTSTART:20251102T020000
TZOFFSETFROM:-0400
TZOFFSETTO:-0500
RDATE:20261101T020000
END:STANDARD
BEGIN:DAYLIGHT
TZNAME:EDT
DTSTART:20250309T020000
TZOFFSETFROM:-0500
TZOFFSETTO:-0400
RDATE:20260308T020000
RDATE:20270314T020000
END:DAYLIGHT
END:VTIMEZONE
BEGIN:VEVENT
UID:5ab47081-0e23-428e-8750-d256f0709e8b
DTSTAMP:20260424T080636Z
DESCRIPTION:6 March 1924: William Friedman testified before a Senate commit
 tee investigating the Teapot Dome scandal. \n\nIn 1924 William Friedman te
 stified before a congressional committee regarding coded telegrams exchang
 ed during the Teapot Dome scandal (Herzog 2000)\, which involved the secre
 t leasing of U.S. government-owned lands to private developers in exchange
  for bribes. The oil-rich land was meant to provide U.S. naval ships with 
 fuel in a national emergency. Then-Secretary of the Interior Albert Fall f
 irst got jurisdiction over the land transferred from the Department of the
  Navy to the Department of the Interior\, then secretly leased the land to
  two oil companies. The scandal was also known as the Oil Reserves and Elk
  Hills scandal. Though Friedman's testimony about coded telegrams added an
  air of intrigue to the proceedings\, there was little cryptanalytic heavy
 -lifting involved as the incriminating messages were encoded with readily 
 available codebooks\, including one used by the Department of Justice. Fri
 edman’s decryption of the coded telegrams led to a prison sentence for Fal
 l and the resignation of other top government officials\, including the Se
 cretary of the Navy and the Attorney General (Bennett 1999\; Herzog 2000).
 \n\nBennett\, Leslie E. One lesson from history: Appointment of special co
 unsel in the investigation of the Teapot Dome scandal\, A Summary of the T
 eapot Dome Scandal from the Brookings Institution [Online]. (1999). \n\nHe
 rzog\, Brad. The best code cracker of them all\, Cornell Alumni Magazine [
 Online]. (January–February 2000). \n\nWilliam Friedman Photo Credit: NCM\n
DTSTART;TZID=America/New_York:20260306T000000
DTEND;TZID=America/New_York:20260306T235900
LOCATION:
SUMMARY:1924: William Friedman testifies re: Teapot Dome scandal.
END:VEVENT
END:VCALENDAR
