BEGIN:VCALENDAR
VERSION:2.0
PRODID:-//archive.cryptologicfoundation.org//NONSGML kigkonsult.se iCalcrea
 tor 2.30.10//
CALSCALE:GREGORIAN
METHOD:PUBLISH
UID:e95e05f7-e96f-4c92-83bd-cc80f57ab278
X-WR-CALDESC:8 March 1953: 'Direct' SIGINT support to tactical air control 
 center began on Cho Do Island during the Korean War. Visit the link below 
 for an NSA publication about SIGINT and the Korean War.
X-WR-RELCALID:22bb01be9776fbae4a33d0b6d9c5e60d
X-WR-TIMEZONE:America/New_York
BEGIN:VTIMEZONE
TZID:America/New_York
BEGIN:STANDARD
TZNAME:EST
DTSTART:20251102T020000
TZOFFSETFROM:-0400
TZOFFSETTO:-0500
RDATE:20261101T020000
END:STANDARD
BEGIN:DAYLIGHT
TZNAME:EDT
DTSTART:20250309T020000
TZOFFSETFROM:-0500
TZOFFSETTO:-0400
RDATE:20260308T020000
RDATE:20270314T020000
END:DAYLIGHT
END:VTIMEZONE
BEGIN:VEVENT
UID:e5dfae53-97bc-41b7-b31e-b0c427573db1
DTSTAMP:20260424T074821Z
DESCRIPTION:8 March 1953: 'Direct' SIGINT support to tactical air control c
 enter began on Cho Do Island during the Korean War. Visit the link below f
 or an NSA publication about SIGINT and the Korean War.
DTSTART;TZID=America/New_York:20260308T000000
DTEND;TZID=America/New_York:20260308T235900
LOCATION:
SUMMARY:1953: 'Direct' SIGINT support to tactical air control center began 
 on Cho Do Island.
END:VEVENT
END:VCALENDAR
