BEGIN:VCALENDAR
VERSION:2.0
PRODID:-//archive.cryptologicfoundation.org//NONSGML kigkonsult.se iCalcrea
 tor 2.30.10//
CALSCALE:GREGORIAN
METHOD:PUBLISH
UID:cb8fbf20-52f7-47c8-babd-398a61a06486
X-WR-CALDESC:9 March 1967: USAF EC-47 loss in Vietnam.
X-WR-RELCALID:72e8f66111e0f96f8c31e20004a6939e
X-WR-TIMEZONE:America/New_York
BEGIN:VTIMEZONE
TZID:America/New_York
BEGIN:STANDARD
TZNAME:EST
DTSTART:20251102T020000
TZOFFSETFROM:-0400
TZOFFSETTO:-0500
RDATE:20261101T020000
END:STANDARD
BEGIN:DAYLIGHT
TZNAME:EDT
DTSTART:20250309T020000
TZOFFSETFROM:-0500
TZOFFSETTO:-0400
RDATE:20260308T020000
RDATE:20270314T020000
END:DAYLIGHT
END:VTIMEZONE
BEGIN:VEVENT
UID:3fc0f204-fb44-4418-8f26-7c3163ffd6ff
DTSTAMP:20260424T074657Z
DESCRIPTION:9 March 1967: USAF EC-47 loss in Vietnam.
DTSTART;TZID=America/New_York:20260309T000000
DTEND;TZID=America/New_York:20260309T235900
LOCATION:
SUMMARY:1967: USAF EC-47 loss in Vietnam.
END:VEVENT
END:VCALENDAR
