BEGIN:VCALENDAR
VERSION:2.0
PRODID:-//archive.cryptologicfoundation.org//NONSGML kigkonsult.se iCalcrea
 tor 2.30.10//
CALSCALE:GREGORIAN
METHOD:PUBLISH
UID:9dbb18ba-0773-442b-ae16-dcf60b215091
X-WR-CALDESC:10 March 1876: The first transmission of voice over electric w
 ires was from Alexander Graham Bell to his laboratory assistant Thomas Wat
 son on March 10\, 1876. This historic event was marked by Bell’s famous ph
 rase\, “Mr. Watson\, come here! I want to see you.” This first telephone t
 ransmission took place at the Bell & Watson laboratory located at 5 Exeter
  Place in Boston.
X-WR-RELCALID:46053746d5a74e23a2da76e865352bff
X-WR-TIMEZONE:America/New_York
BEGIN:VTIMEZONE
TZID:America/New_York
BEGIN:STANDARD
TZNAME:EST
DTSTART:20251102T020000
TZOFFSETFROM:-0400
TZOFFSETTO:-0500
RDATE:20261101T020000
END:STANDARD
BEGIN:DAYLIGHT
TZNAME:EDT
DTSTART:20260308T020000
TZOFFSETFROM:-0500
TZOFFSETTO:-0400
RDATE:20270314T020000
END:DAYLIGHT
END:VTIMEZONE
BEGIN:VEVENT
UID:d8e4ca33-fdee-4d0d-b1c6-626f0d0cbe73
DTSTAMP:20260424T082939Z
DESCRIPTION:10 March 1876: The first transmission of voice over electric wi
 res was from Alexander Graham Bell to his laboratory assistant Thomas Wats
 on on March 10\, 1876. This historic event was marked by Bell’s famous phr
 ase\, “Mr. Watson\, come here! I want to see you.” This first telephone tr
 ansmission took place at the Bell & Watson laboratory located at 5 Exeter 
 Place in Boston.
DTSTART;TZID=America/New_York:20260310T000000
DTEND;TZID=America/New_York:20260310T235900
LOCATION:
SUMMARY:1876: First successful voice transmission over Bell's telephone.
END:VEVENT
END:VCALENDAR
