BEGIN:VCALENDAR
VERSION:2.0
PRODID:-//archive.cryptologicfoundation.org//NONSGML kigkonsult.se iCalcrea
 tor 2.30.10//
CALSCALE:GREGORIAN
METHOD:PUBLISH
UID:39777c75-a890-4e06-bca5-74ad7886a06d
X-WR-CALDESC:10 March 1918: Radio Intelligence Service established on Mexic
 an border.
X-WR-RELCALID:fd913cb92e687469fd376d30dc7b34f2
X-WR-TIMEZONE:America/New_York
BEGIN:VTIMEZONE
TZID:America/New_York
BEGIN:STANDARD
TZNAME:EST
DTSTART:20251102T020000
TZOFFSETFROM:-0400
TZOFFSETTO:-0500
RDATE:20261101T020000
END:STANDARD
BEGIN:DAYLIGHT
TZNAME:EDT
DTSTART:20260308T020000
TZOFFSETFROM:-0500
TZOFFSETTO:-0400
RDATE:20270314T020000
END:DAYLIGHT
END:VTIMEZONE
BEGIN:VEVENT
UID:240696eb-ecaa-4cf1-8b7a-0bbba1a1f501
DTSTAMP:20260424T082443Z
DESCRIPTION:10 March 1918: Radio Intelligence Service established on Mexica
 n border.
DTSTART;TZID=America/New_York:20260310T000000
DTEND;TZID=America/New_York:20260310T235900
LOCATION:
SUMMARY:1918: Radio Intelligence Service\, Mexican border\, was established
 .
END:VEVENT
END:VCALENDAR
