BEGIN:VCALENDAR
VERSION:2.0
PRODID:-//archive.cryptologicfoundation.org//NONSGML kigkonsult.se iCalcrea
 tor 2.30.10//
CALSCALE:GREGORIAN
METHOD:PUBLISH
UID:9d0ba0b6-f019-4359-b387-f11337252ea8
X-WR-CALDESC:11 March 1942: Evacuation of Station CAST. \n\nExcerpt from Wi
 kipedia: Station CAST was the United States Navy signals monitoring and cr
 yptographic intelligence fleet radio unit at Cavite Navy Yard in the Phili
 ppines\, until Cavite was captured by the Japanese forces in 1942\, during
  World War II. It was an important part of the Allied intelligence effort\
 , addressing Japanese communications as the War expanded from China into t
 he rest of the Pacific theaters. As Japanese advances in the Philippines t
 hreatened CAST\, its staff and services were progressively transferred to 
 Corregidor in Manila Bay\, and eventually to a newly formed US-Australian 
 station\, FRUMEL in Melbourne\, Australia.
X-WR-RELCALID:818610aab917d8db7aeb07d0d3e949f2
X-WR-TIMEZONE:America/New_York
BEGIN:VTIMEZONE
TZID:America/New_York
BEGIN:STANDARD
TZNAME:EST
DTSTART:20251102T020000
TZOFFSETFROM:-0400
TZOFFSETTO:-0500
RDATE:20261101T020000
END:STANDARD
BEGIN:DAYLIGHT
TZNAME:EDT
DTSTART:20260308T020000
TZOFFSETFROM:-0500
TZOFFSETTO:-0400
RDATE:20270314T020000
END:DAYLIGHT
END:VTIMEZONE
BEGIN:VEVENT
UID:83ebb4bf-d2a8-4909-953a-5c7affd5bb23
DTSTAMP:20260424T080625Z
DESCRIPTION:11 March 1942: Evacuation of Station CAST. \n\nExcerpt from Wik
 ipedia: Station CAST was the United States Navy signals monitoring and cry
 ptographic intelligence fleet radio unit at Cavite Navy Yard in the Philip
 pines\, until Cavite was captured by the Japanese forces in 1942\, during 
 World War II. It was an important part of the Allied intelligence effort\,
  addressing Japanese communications as the War expanded from China into th
 e rest of the Pacific theaters. As Japanese advances in the Philippines th
 reatened CAST\, its staff and services were progressively transferred to C
 orregidor in Manila Bay\, and eventually to a newly formed US-Australian s
 tation\, FRUMEL in Melbourne\, Australia.
DTSTART;TZID=America/New_York:20260311T000000
DTEND;TZID=America/New_York:20260311T235900
LOCATION:
SUMMARY:1942: Evacuation of Station CAST.
END:VEVENT
END:VCALENDAR
