BEGIN:VCALENDAR
VERSION:2.0
PRODID:-//archive.cryptologicfoundation.org//NONSGML kigkonsult.se iCalcrea
 tor 2.30.10//
CALSCALE:GREGORIAN
METHOD:PUBLISH
UID:58f20c3c-40dc-4720-adba-d13d7ce181c9
X-WR-CALDESC:12 March 1951: The AFSA training branch was established.
X-WR-RELCALID:946151dc623d0b11d7e714c8935ba438
X-WR-TIMEZONE:America/New_York
BEGIN:VTIMEZONE
TZID:America/New_York
BEGIN:STANDARD
TZNAME:EST
DTSTART:20251102T020000
TZOFFSETFROM:-0400
TZOFFSETTO:-0500
RDATE:20261101T020000
END:STANDARD
BEGIN:DAYLIGHT
TZNAME:EDT
DTSTART:20260308T020000
TZOFFSETFROM:-0500
TZOFFSETTO:-0400
RDATE:20270314T020000
END:DAYLIGHT
END:VTIMEZONE
BEGIN:VEVENT
UID:78f0e8e5-c5d6-4cdc-9095-fa8825d99613
DTSTAMP:20260424T074145Z
DESCRIPTION:12 March 1951: The AFSA training branch was established.
DTSTART;TZID=America/New_York:20260312T000000
DTEND;TZID=America/New_York:20260312T235900
LOCATION:
SUMMARY:1951: AFSA Training Branch Established
END:VEVENT
END:VCALENDAR
