BEGIN:VCALENDAR
VERSION:2.0
PRODID:-//archive.cryptologicfoundation.org//NONSGML kigkonsult.se iCalcrea
 tor 2.30.10//
CALSCALE:GREGORIAN
METHOD:PUBLISH
UID:6b13a70a-d260-4fc2-a91a-780d00a68982
X-WR-CALDESC:15 March 1946: CREAM replaced ULTRA as the codeword for top se
 cret cryptanalytic material.
X-WR-RELCALID:a04b17d543e5a8d2ab2a2c444676bf06
X-WR-TIMEZONE:America/New_York
BEGIN:VTIMEZONE
TZID:America/New_York
BEGIN:STANDARD
TZNAME:EST
DTSTART:20251102T020000
TZOFFSETFROM:-0400
TZOFFSETTO:-0500
RDATE:20261101T020000
END:STANDARD
BEGIN:DAYLIGHT
TZNAME:EDT
DTSTART:20260308T020000
TZOFFSETFROM:-0500
TZOFFSETTO:-0400
RDATE:20270314T020000
END:DAYLIGHT
END:VTIMEZONE
BEGIN:VEVENT
UID:ea3d040a-fb95-4e72-91da-083e6e31926f
DTSTAMP:20260424T080504Z
DESCRIPTION:15 March 1946: CREAM replaced ULTRA as the codeword for top sec
 ret cryptanalytic material.
DTSTART;TZID=America/New_York:20260315T000000
DTEND;TZID=America/New_York:20260315T235900
LOCATION:
SUMMARY:1946: CREAM replaced ULTRA.
END:VEVENT
END:VCALENDAR
