BEGIN:VCALENDAR
VERSION:2.0
PRODID:-//archive.cryptologicfoundation.org//NONSGML kigkonsult.se iCalcrea
 tor 2.30.10//
CALSCALE:GREGORIAN
METHOD:PUBLISH
UID:b1e9438f-13f5-4bca-b586-74a045940056
X-WR-CALDESC:15 March 1981: USAF RC-135 lost\, Shemya. Returning from a rec
 on mission off Kamchatka\, six aircrew members died in the crash landing o
 f the Cobra Ball RC-135. Several Medals were awarded for bravery. A memori
 al to the six crew members of Cobra Ball 61-2664 who lost their lives in M
 arch 1981 when their aircraft crashed upon landing at Shemya Air Force Bas
 e\, Alaska\, is located outside the 45th Reconnaissance Squadron headquart
 ers building in Nebraska. A memorial service was held in March 2011 on the
  30th anniversary of the incident. Photo - Memorial Tribute Coin.\n\nLearn
  more about the Cobra Ball RC-135 crash\, survivors\, and more via the lin
 k below.
X-WR-RELCALID:231c43db641a8d19df83a26ba5089ca1
X-WR-TIMEZONE:America/New_York
BEGIN:VTIMEZONE
TZID:America/New_York
BEGIN:STANDARD
TZNAME:EST
DTSTART:20251102T020000
TZOFFSETFROM:-0400
TZOFFSETTO:-0500
RDATE:20261101T020000
END:STANDARD
BEGIN:DAYLIGHT
TZNAME:EDT
DTSTART:20260308T020000
TZOFFSETFROM:-0500
TZOFFSETTO:-0400
RDATE:20270314T020000
END:DAYLIGHT
END:VTIMEZONE
BEGIN:VEVENT
UID:84342b6a-5f3c-43f1-a9eb-40671593504d
DTSTAMP:20260424T074338Z
DESCRIPTION:15 March 1981: USAF RC-135 lost\, Shemya. Returning from a reco
 n mission off Kamchatka\, six aircrew members died in the crash landing of
  the Cobra Ball RC-135. Several Medals were awarded for bravery. A memoria
 l to the six crew members of Cobra Ball 61-2664 who lost their lives in Ma
 rch 1981 when their aircraft crashed upon landing at Shemya Air Force Base
 \, Alaska\, is located outside the 45th Reconnaissance Squadron headquarte
 rs building in Nebraska. A memorial service was held in March 2011 on the 
 30th anniversary of the incident. Photo - Memorial Tribute Coin.\n\nLearn 
 more about the Cobra Ball RC-135 crash\, survivors\, and more via the link
  below.
DTSTART;TZID=America/New_York:20260315T000000
DTEND;TZID=America/New_York:20260315T235900
LOCATION:
SUMMARY:1981: USAF RC-135 lost\, Shemya.
END:VEVENT
END:VCALENDAR
