BEGIN:VCALENDAR
VERSION:2.0
PRODID:-//archive.cryptologicfoundation.org//NONSGML kigkonsult.se iCalcrea
 tor 2.30.10//
CALSCALE:GREGORIAN
METHOD:PUBLISH
UID:ba768d75-bd5c-460f-95dc-a82a8ddfd13e
X-WR-CALDESC:Horst Feistel was a German-born cryptographer. He worked on th
 e design of ciphers at IBM and received awards for his cryptographic work.
  His research at IBM led to the development of the Lucifer and Data Encryp
 tion Standard (DES) ciphers. Feistel was one of the earliest non-governmen
 t researchers to study the design and theory of block ciphers. on 19 March
  1974\, he received a patent for 'Block Cipher Cryptographic System\,' an 
 encryption scheme that laid the foundation for the Data Encryption Standar
 d (DES). \n\nPhoto and excerpt via Wikipedia.
X-WR-RELCALID:e85708dc1498227dac15978d1df32be0
X-WR-TIMEZONE:America/New_York
BEGIN:VTIMEZONE
TZID:America/New_York
BEGIN:STANDARD
TZNAME:EST
DTSTART:20251102T020000
TZOFFSETFROM:-0400
TZOFFSETTO:-0500
RDATE:20261101T020000
END:STANDARD
BEGIN:DAYLIGHT
TZNAME:EDT
DTSTART:20260308T020000
TZOFFSETFROM:-0500
TZOFFSETTO:-0400
RDATE:20270314T020000
END:DAYLIGHT
END:VTIMEZONE
BEGIN:VEVENT
UID:472d4366-66ce-4108-9f92-27ee4964465b
DTSTAMP:20260424T064308Z
DESCRIPTION:Horst Feistel was a German-born cryptographer. He worked on the
  design of ciphers at IBM and received awards for his cryptographic work. 
 His research at IBM led to the development of the Lucifer and Data Encrypt
 ion Standard (DES) ciphers. Feistel was one of the earliest non-government
  researchers to study the design and theory of block ciphers. on 19 March 
 1974\, he received a patent for 'Block Cipher Cryptographic System\,' an e
 ncryption scheme that laid the foundation for the Data Encryption Standard
  (DES). \n\nPhoto and excerpt via Wikipedia.
DTSTART;TZID=America/New_York:20260319T000000
DTEND;TZID=America/New_York:20260319T235900
LOCATION:
SUMMARY:1974: Horst Feistel received a patent for 'Block Cipher Cryptograph
 ic System.'
END:VEVENT
END:VCALENDAR
