BEGIN:VCALENDAR
VERSION:2.0
PRODID:-//archive.cryptologicfoundation.org//NONSGML kigkonsult.se iCalcrea
 tor 2.30.10//
CALSCALE:GREGORIAN
METHOD:PUBLISH
UID:e1f025ce-252e-4dc8-9f70-e0f288fbc765
X-WR-CALDESC:22 March 1962: ASA flew first airborne radio direction finding
  mission in Vietnam. It was a single-engine aircraft that flew low\, slow\
 , and had room for only a few people. This mission flew against Viet Cong 
 transmitters east of Saigon.\n\nAirborne DF had never been tried before. T
 he challenges were many\, from creating an airborne system that could disc
 riminate between direct waves and sky waves to choosing the right kind of 
 aircraft for the mission. However\, by the spring of 1962\, a year after t
 heir arrival in Vietnam\, the 3d RRU was finally able to provide significa
 ntly better signals intelligence (SIGINT) support to the South Vietnamese 
 Army with ASA's fledgling ARDF capability. The ARDF operator could get clo
 ser to the target transmitter without putting himself in imminent danger\;
  one aircraft could move fast enough and cover enough area to eliminate th
 e need for a network of DF teams\; the response to the tactical commander'
 s requirements was faster than with ground DF equipment\; and most importa
 ntly\, the ARDF was more accurate. It could precisely target the enemy's l
 ocation\, which led to follow-up by artillery\, air strikes\, and ground o
 perations by South Vietnamese forces.
X-WR-RELCALID:be2de2bd400f0e06a0e96457e3c7da3f
X-WR-TIMEZONE:America/New_York
BEGIN:VTIMEZONE
TZID:America/New_York
BEGIN:STANDARD
TZNAME:EST
DTSTART:20251102T020000
TZOFFSETFROM:-0400
TZOFFSETTO:-0500
RDATE:20261101T020000
END:STANDARD
BEGIN:DAYLIGHT
TZNAME:EDT
DTSTART:20260308T020000
TZOFFSETFROM:-0500
TZOFFSETTO:-0400
RDATE:20270314T020000
END:DAYLIGHT
END:VTIMEZONE
BEGIN:VEVENT
UID:ecacc329-f0c1-453f-997b-0402e2625f8f
DTSTAMP:20260424T121950Z
DESCRIPTION:22 March 1962: ASA flew first airborne radio direction finding 
 mission in Vietnam. It was a single-engine aircraft that flew low\, slow\,
  and had room for only a few people. This mission flew against Viet Cong t
 ransmitters east of Saigon.\n\nAirborne DF had never been tried before. Th
 e challenges were many\, from creating an airborne system that could discr
 iminate between direct waves and sky waves to choosing the right kind of a
 ircraft for the mission. However\, by the spring of 1962\, a year after th
 eir arrival in Vietnam\, the 3d RRU was finally able to provide significan
 tly better signals intelligence (SIGINT) support to the South Vietnamese A
 rmy with ASA's fledgling ARDF capability. The ARDF operator could get clos
 er to the target transmitter without putting himself in imminent danger\; 
 one aircraft could move fast enough and cover enough area to eliminate the
  need for a network of DF teams\; the response to the tactical commander's
  requirements was faster than with ground DF equipment\; and most importan
 tly\, the ARDF was more accurate. It could precisely target the enemy's lo
 cation\, which led to follow-up by artillery\, air strikes\, and ground op
 erations by South Vietnamese forces.
DTSTART;TZID=America/New_York:20260322T000000
DTEND;TZID=America/New_York:20260322T235900
LOCATION:
SUMMARY:1962: ASA flew first airborne radio direction finding mission in Vi
 etnam.
END:VEVENT
END:VCALENDAR
