BEGIN:VCALENDAR
VERSION:2.0
PRODID:-//archive.cryptologicfoundation.org//NONSGML kigkonsult.se iCalcrea
 tor 2.30.10//
CALSCALE:GREGORIAN
METHOD:PUBLISH
UID:4a439a27-b110-4cc3-9d28-b4a870583cd9
X-WR-CALDESC:Lieutenant General Michael V. Hayden\, USAF\, served as the Di
 rector\, National Security Agency/Chief\, Central Security Service (NSA/CS
 S)\, Fort George G. Meade\, MD\, from March 1999 to April 2005. As the Dir
 ector of NSA and Chief of CSS\, he was responsible for a combat support ag
 ency of the Department of Defense with military and civilian personnel sta
 tioned worldwide.
X-WR-RELCALID:0f0bf7099e298866112560c46332d764
X-WR-TIMEZONE:America/New_York
BEGIN:VTIMEZONE
TZID:America/New_York
BEGIN:STANDARD
TZNAME:EST
DTSTART:20251102T020000
TZOFFSETFROM:-0400
TZOFFSETTO:-0500
RDATE:20261101T020000
END:STANDARD
BEGIN:DAYLIGHT
TZNAME:EDT
DTSTART:20260308T020000
TZOFFSETFROM:-0500
TZOFFSETTO:-0400
RDATE:20270314T020000
END:DAYLIGHT
END:VTIMEZONE
BEGIN:VEVENT
UID:485919fc-da5d-4571-8697-6a05f03214ee
DTSTAMP:20260424T080400Z
DESCRIPTION:Lieutenant General Michael V. Hayden\, USAF\, served as the Dir
 ector\, National Security Agency/Chief\, Central Security Service (NSA/CSS
 )\, Fort George G. Meade\, MD\, from March 1999 to April 2005. As the Dire
 ctor of NSA and Chief of CSS\, he was responsible for a combat support age
 ncy of the Department of Defense with military and civilian personnel stat
 ioned worldwide.
DTSTART;TZID=America/New_York:20260326T000000
DTEND;TZID=America/New_York:20260326T235900
LOCATION:
SUMMARY:1999: Lt Gen Michael Hayden\, USAF\, became DIRNSA.
END:VEVENT
END:VCALENDAR
