BEGIN:VCALENDAR
VERSION:2.0
PRODID:-//archive.cryptologicfoundation.org//NONSGML kigkonsult.se iCalcrea
 tor 2.30.10//
CALSCALE:GREGORIAN
METHOD:PUBLISH
UID:777bd920-e9ef-4711-8af5-294a26ef109a
X-WR-CALDESC:March 29th is #NationalVietnamWarVeteransDay. \n\nThe brick in
  this photo was recovered in 1993 from the infamous Hoa Lo Prison in North
  Vietnam or otherwise known as the Hanoi Hilton to the U.S Prisoners of Wa
 r. It is symbolic of the service and sacrifice millions of Americans made 
 when answering the call to duty during the Vietnam War. For 14 years\, fro
 m April 1961 until April 1975\, American military and civilian cryptologis
 ts\, along with those from the Republic of Vietnam and Australia\, served 
 in the Vietnam War. At the height of the conflict in 1969\, there were mor
 e than 10\,000 cryptologists supporting the war effort in Southeast Asia. 
 No matter where they were\, they performed with dedication to their duty o
 f getting intelligence to the front-line troops. In doing so\, many would 
 be wounded\, and some would die. \n\nWe remember their faces\, the places 
 they served\, the risks and hardships they endured\, and the job they did 
 so well. Learn more about the cryptologists in Vietnam via the link below 
 to the NCM's virtual Vietnam War exhibit on Virmuze.
X-WR-RELCALID:c3d039af0e7f979c65755bc2e60eaab4
X-WR-TIMEZONE:America/New_York
BEGIN:VTIMEZONE
TZID:America/New_York
BEGIN:STANDARD
TZNAME:EST
DTSTART:20251102T020000
TZOFFSETFROM:-0400
TZOFFSETTO:-0500
RDATE:20261101T020000
END:STANDARD
BEGIN:DAYLIGHT
TZNAME:EDT
DTSTART:20260308T020000
TZOFFSETFROM:-0500
TZOFFSETTO:-0400
RDATE:20270314T020000
END:DAYLIGHT
END:VTIMEZONE
BEGIN:VEVENT
UID:bc7941d5-506e-4083-b1f5-5ec21b9b8375
DTSTAMP:20260424T074205Z
DESCRIPTION:March 29th is #NationalVietnamWarVeteransDay. \n\nThe brick in 
 this photo was recovered in 1993 from the infamous Hoa Lo Prison in North 
 Vietnam or otherwise known as the Hanoi Hilton to the U.S Prisoners of War
 . It is symbolic of the service and sacrifice millions of Americans made w
 hen answering the call to duty during the Vietnam War. For 14 years\, from
  April 1961 until April 1975\, American military and civilian cryptologist
 s\, along with those from the Republic of Vietnam and Australia\, served i
 n the Vietnam War. At the height of the conflict in 1969\, there were more
  than 10\,000 cryptologists supporting the war effort in Southeast Asia. N
 o matter where they were\, they performed with dedication to their duty of
  getting intelligence to the front-line troops. In doing so\, many would b
 e wounded\, and some would die. \n\nWe remember their faces\, the places t
 hey served\, the risks and hardships they endured\, and the job they did s
 o well. Learn more about the cryptologists in Vietnam via the link below t
 o the NCM's virtual Vietnam War exhibit on Virmuze.
DTSTART;TZID=America/New_York:20260329T000000
DTEND;TZID=America/New_York:20260329T235900
LOCATION:
SUMMARY:Vietnam Veterans Day
END:VEVENT
END:VCALENDAR
