BEGIN:VCALENDAR
VERSION:2.0
PRODID:-//archive.cryptologicfoundation.org//NONSGML kigkonsult.se iCalcrea
 tor 2.30.10//
CALSCALE:GREGORIAN
METHOD:PUBLISH
UID:8566ed66-d924-4378-87c4-8cc54b893eba
X-WR-CALDESC:30 March 1973: Last US troops leave Vietnam.
X-WR-RELCALID:5b7fbeecf17a8f38868c1c843aeebfcf
X-WR-TIMEZONE:America/New_York
BEGIN:VTIMEZONE
TZID:America/New_York
BEGIN:STANDARD
TZNAME:EST
DTSTART:20251102T020000
TZOFFSETFROM:-0400
TZOFFSETTO:-0500
RDATE:20261101T020000
END:STANDARD
BEGIN:DAYLIGHT
TZNAME:EDT
DTSTART:20260308T020000
TZOFFSETFROM:-0500
TZOFFSETTO:-0400
RDATE:20270314T020000
END:DAYLIGHT
END:VTIMEZONE
BEGIN:VEVENT
UID:308d57a4-bf39-4d18-9a4b-133367495b59
DTSTAMP:20260424T063517Z
DESCRIPTION:30 March 1973: Last US troops leave Vietnam.
DTSTART;TZID=America/New_York:20260330T000000
DTEND;TZID=America/New_York:20260330T235900
LOCATION:
SUMMARY:1973: Last U.S. troops left Vietnam.
END:VEVENT
END:VCALENDAR
